Workbook
Name projects: #REF!
Name projects2: #REF!
Name projects3: #REF!
Name projects4: #REF!

Sheet SummaryFY27
A1: THE PROJECT QUANTITIES SYSTEM
A2: ESTIMATED QUANTITIES FOR "LET" PROJECTS
A3: FISCAL YEAR 2027
A7: LET DATE | B7: ASPHALT | C7: CONCRETE | D7: EXCAVATION | E7: BASE COURSE | F7: BRIDGE DECK | G7: MILLING | H7: GRINDING | I7: STRIPING | J7: PROJECTS
B8: (Tons) | C8: (Sq Yds) | D8: (Cu Yds) | E8: (Tons) | F8: (Sq Ft) | G8: (Sq Yds) | H8: (Sq Yds) | I8: (Lin Ft)
A9: 46217 | B9: =SUMIF('FY 27 Project Listing'!$B$3:$B$408,SummaryFY27!$A9,'FY 27 Project Listing'!$L$3:$L$408) -> 256807 | C9: =SUMIF('FY 27 Project Listing'!$B$3:$B$408,SummaryFY27!$A9,'FY 27 Project Listing'!$M$3:$M$408) -> 410668 | D9: =SUMIF('FY 27 Project Listing'!$B$3:$B$408,SummaryFY27!$A9,'FY 27 Project Listing'!$N$3:$N$408) -> 936762 | E9: =SUMIF('FY 27 Project Listing'!$B$3:$B$408,SummaryFY27!$A9,'FY 27 Project Listing'!$O$3:$O$408) -> 1327392 | F9: =SUMIF('FY 27 Project Listing'!$B$3:$B$408,SummaryFY27!$A9,'FY 27 Project Listing'!$P$3:$P$408) -> 185657 | G9: =SUMIF('FY 27 Project Listing'!$B$3:$B$408,SummaryFY27!$A9,'FY 27 Project Listing'!$Q$3:$Q$408) -> 583621 | H9: =SUMIF('FY 27 Project Listing'!$B$3:$B$408,SummaryFY27!$A9,'FY 27 Project Listing'!$R$3:$R$408) -> 8300 | I9: =SUMIF('FY 27 Project Listing'!$B$3:$B$408,SummaryFY27!$A9,'FY 27 Project Listing'!$S$3:$S$408) -> 1405567 | J9: =COUNTIF('FY 27 Project Listing'!$B$3:$B$408,SummaryFY27!$A9) -> 16
A10: 46245 | B10: =SUMIF('FY 27 Project Listing'!$B$3:$B$408,SummaryFY27!$A10,'FY 27 Project Listing'!$L$3:$L$408) -> 368894 | C10: =SUMIF('FY 27 Project Listing'!$B$3:$B$408,SummaryFY27!$A10,'FY 27 Project Listing'!$M$3:$M$408) -> 494582 | D10: =SUMIF('FY 27 Project Listing'!$B$3:$B$408,SummaryFY27!$A10,'FY 27 Project Listing'!$N$3:$N$408) -> 730091 | E10: =SUMIF('FY 27 Project Listing'!$B$3:$B$408,SummaryFY27!$A10,'FY 27 Project Listing'!$O$3:$O$408) -> 1233990 | F10: =SUMIF('FY 27 Project Listing'!$B$3:$B$408,SummaryFY27!$A10,'FY 27 Project Listing'!$P$3:$P$408) -> 93083 | G10: =SUMIF('FY 27 Project Listing'!$B$3:$B$408,SummaryFY27!$A10,'FY 27 Project Listing'!$Q$3:$Q$408) -> 1581973 | H10: =SUMIF('FY 27 Project Listing'!$B$3:$B$408,SummaryFY27!$A10,'FY 27 Project Listing'!$R$3:$R$408) -> 33630 | I10: =SUMIF('FY 27 Project Listing'!$B$3:$B$408,SummaryFY27!$A10,'FY 27 Project Listing'!$S$3:$S$408) -> 3418886 | J10: =COUNTIF('FY 27 Project Listing'!$B$3:$B$408,SummaryFY27!$A10) -> 20
A11: 46280 | B11: =SUMIF('FY 27 Project Listing'!$B$3:$B$408,SummaryFY27!$A11,'FY 27 Project Listing'!$L$3:$L$408) -> 464276 | C11: =SUMIF('FY 27 Project Listing'!$B$3:$B$408,SummaryFY27!$A11,'FY 27 Project Listing'!$M$3:$M$408) -> 90897 | D11: =SUMIF('FY 27 Project Listing'!$B$3:$B$408,SummaryFY27!$A11,'FY 27 Project Listing'!$N$3:$N$408) -> 272334 | E11: =SUMIF('FY 27 Project Listing'!$B$3:$B$408,SummaryFY27!$A11,'FY 27 Project Listing'!$O$3:$O$408) -> 297957 | F11: =SUMIF('FY 27 Project Listing'!$B$3:$B$408,SummaryFY27!$A11,'FY 27 Project Listing'!$P$3:$P$408) -> 63684 | G11: =SUMIF('FY 27 Project Listing'!$B$3:$B$408,SummaryFY27!$A11,'FY 27 Project Listing'!$Q$3:$Q$408) -> 2359087 | H11: =SUMIF('FY 27 Project Listing'!$B$3:$B$408,SummaryFY27!$A11,'FY 27 Project Listing'!$R$3:$R$408) -> 6603 | I11: =SUMIF('FY 27 Project Listing'!$B$3:$B$408,SummaryFY27!$A11,'FY 27 Project Listing'!$S$3:$S$408) -> 3751868 | J11: =COUNTIF('FY 27 Project Listing'!$B$3:$B$408,SummaryFY27!$A11) -> 41
A12: 46308 | B12: =SUMIF('FY 27 Project Listing'!$B$3:$B$408,SummaryFY27!$A12,'FY 27 Project Listing'!$L$3:$L$408) -> 328596 | C12: =SUMIF('FY 27 Project Listing'!$B$3:$B$408,SummaryFY27!$A12,'FY 27 Project Listing'!$M$3:$M$408) -> 469156 | D12: =SUMIF('FY 27 Project Listing'!$B$3:$B$408,SummaryFY27!$A12,'FY 27 Project Listing'!$N$3:$N$408) -> 683865 | E12: =SUMIF('FY 27 Project Listing'!$B$3:$B$408,SummaryFY27!$A12,'FY 27 Project Listing'!$O$3:$O$408) -> 1314275 | F12: =SUMIF('FY 27 Project Listing'!$B$3:$B$408,SummaryFY27!$A12,'FY 27 Project Listing'!$P$3:$P$408) -> 140943 | G12: =SUMIF('FY 27 Project Listing'!$B$3:$B$408,SummaryFY27!$A12,'FY 27 Project Listing'!$Q$3:$Q$408) -> 1015779 | H12: =SUMIF('FY 27 Project Listing'!$B$3:$B$408,SummaryFY27!$A12,'FY 27 Project Listing'!$R$3:$R$408) -> 65976 | I12: =SUMIF('FY 27 Project Listing'!$B$3:$B$408,SummaryFY27!$A12,'FY 27 Project Listing'!$S$3:$S$408) -> 11186862 | J12: =COUNTIF('FY 27 Project Listing'!$B$3:$B$408,SummaryFY27!$A12) -> 34
A13: 46336 | B13: =SUMIF('FY 27 Project Listing'!$B$3:$B$408,SummaryFY27!$A13,'FY 27 Project Listing'!$L$3:$L$408) -> 389659 | C13: =SUMIF('FY 27 Project Listing'!$B$3:$B$408,SummaryFY27!$A13,'FY 27 Project Listing'!$M$3:$M$408) -> 44901 | D13: =SUMIF('FY 27 Project Listing'!$B$3:$B$408,SummaryFY27!$A13,'FY 27 Project Listing'!$N$3:$N$408) -> 402359 | E13: =SUMIF('FY 27 Project Listing'!$B$3:$B$408,SummaryFY27!$A13,'FY 27 Project Listing'!$O$3:$O$408) -> 468997 | F13: =SUMIF('FY 27 Project Listing'!$B$3:$B$408,SummaryFY27!$A13,'FY 27 Project Listing'!$P$3:$P$408) -> 40679 | G13: =SUMIF('FY 27 Project Listing'!$B$3:$B$408,SummaryFY27!$A13,'FY 27 Project Listing'!$Q$3:$Q$408) -> 1213947 | H13: =SUMIF('FY 27 Project Listing'!$B$3:$B$408,SummaryFY27!$A13,'FY 27 Project Listing'!$R$3:$R$408) -> 0 | I13: =SUMIF('FY 27 Project Listing'!$B$3:$B$408,SummaryFY27!$A13,'FY 27 Project Listing'!$S$3:$S$408) -> 2534403 | J13: =COUNTIF('FY 27 Project Listing'!$B$3:$B$408,SummaryFY27!$A13) -> 39
A14: 46364 | B14: =SUMIF('FY 27 Project Listing'!$B$3:$B$408,SummaryFY27!$A14,'FY 27 Project Listing'!$L$3:$L$408) -> 307605 | C14: =SUMIF('FY 27 Project Listing'!$B$3:$B$408,SummaryFY27!$A14,'FY 27 Project Listing'!$M$3:$M$408) -> 147720 | D14: =SUMIF('FY 27 Project Listing'!$B$3:$B$408,SummaryFY27!$A14,'FY 27 Project Listing'!$N$3:$N$408) -> 402088 | E14: =SUMIF('FY 27 Project Listing'!$B$3:$B$408,SummaryFY27!$A14,'FY 27 Project Listing'!$O$3:$O$408) -> 455294 | F14: =SUMIF('FY 27 Project Listing'!$B$3:$B$408,SummaryFY27!$A14,'FY 27 Project Listing'!$P$3:$P$408) -> 136225 | G14: =SUMIF('FY 27 Project Listing'!$B$3:$B$408,SummaryFY27!$A14,'FY 27 Project Listing'!$Q$3:$Q$408) -> 1278662 | H14: =SUMIF('FY 27 Project Listing'!$B$3:$B$408,SummaryFY27!$A14,'FY 27 Project Listing'!$R$3:$R$408) -> 0 | I14: =SUMIF('FY 27 Project Listing'!$B$3:$B$408,SummaryFY27!$A14,'FY 27 Project Listing'!$S$3:$S$408) -> 5355825 | J14: =COUNTIF('FY 27 Project Listing'!$B$3:$B$408,SummaryFY27!$A14) -> 55
A15: 46399 | B15: =SUMIF('FY 27 Project Listing'!$B$3:$B$408,SummaryFY27!$A15,'FY 27 Project Listing'!$L$3:$L$408) -> 485936 | C15: =SUMIF('FY 27 Project Listing'!$B$3:$B$408,SummaryFY27!$A15,'FY 27 Project Listing'!$M$3:$M$408) -> 20222 | D15: =SUMIF('FY 27 Project Listing'!$B$3:$B$408,SummaryFY27!$A15,'FY 27 Project Listing'!$N$3:$N$408) -> 225463 | E15: =SUMIF('FY 27 Project Listing'!$B$3:$B$408,SummaryFY27!$A15,'FY 27 Project Listing'!$O$3:$O$408) -> 352090 | F15: =SUMIF('FY 27 Project Listing'!$B$3:$B$408,SummaryFY27!$A15,'FY 27 Project Listing'!$P$3:$P$408) -> 39260 | G15: =SUMIF('FY 27 Project Listing'!$B$3:$B$408,SummaryFY27!$A15,'FY 27 Project Listing'!$Q$3:$Q$408) -> 1817852 | H15: =SUMIF('FY 27 Project Listing'!$B$3:$B$408,SummaryFY27!$A15,'FY 27 Project Listing'!$R$3:$R$408) -> 0 | I15: =SUMIF('FY 27 Project Listing'!$B$3:$B$408,SummaryFY27!$A15,'FY 27 Project Listing'!$S$3:$S$408) -> 11317846 | J15: =COUNTIF('FY 27 Project Listing'!$B$3:$B$408,SummaryFY27!$A15) -> 41
A16: 46427 | B16: =SUMIF('FY 27 Project Listing'!$B$3:$B$408,SummaryFY27!$A16,'FY 27 Project Listing'!$L$3:$L$408) -> 693221 | C16: =SUMIF('FY 27 Project Listing'!$B$3:$B$408,SummaryFY27!$A16,'FY 27 Project Listing'!$M$3:$M$408) -> 246761 | D16: =SUMIF('FY 27 Project Listing'!$B$3:$B$408,SummaryFY27!$A16,'FY 27 Project Listing'!$N$3:$N$408) -> 464452 | E16: =SUMIF('FY 27 Project Listing'!$B$3:$B$408,SummaryFY27!$A16,'FY 27 Project Listing'!$O$3:$O$408) -> 600479 | F16: =SUMIF('FY 27 Project Listing'!$B$3:$B$408,SummaryFY27!$A16,'FY 27 Project Listing'!$P$3:$P$408) -> 102921 | G16: =SUMIF('FY 27 Project Listing'!$B$3:$B$408,SummaryFY27!$A16,'FY 27 Project Listing'!$Q$3:$Q$408) -> 3447223 | H16: =SUMIF('FY 27 Project Listing'!$B$3:$B$408,SummaryFY27!$A16,'FY 27 Project Listing'!$R$3:$R$408) -> 47283 | I16: =SUMIF('FY 27 Project Listing'!$B$3:$B$408,SummaryFY27!$A16,'FY 27 Project Listing'!$S$3:$S$408) -> 10781258 | J16: =COUNTIF('FY 27 Project Listing'!$B$3:$B$408,SummaryFY27!$A16) -> 65
A17: 46455 | B17: =SUMIF('FY 27 Project Listing'!$B$3:$B$408,SummaryFY27!$A17,'FY 27 Project Listing'!$L$3:$L$408) -> 235660 | C17: =SUMIF('FY 27 Project Listing'!$B$3:$B$408,SummaryFY27!$A17,'FY 27 Project Listing'!$M$3:$M$408) -> 52609 | D17: =SUMIF('FY 27 Project Listing'!$B$3:$B$408,SummaryFY27!$A17,'FY 27 Project Listing'!$N$3:$N$408) -> 126799 | E17: =SUMIF('FY 27 Project Listing'!$B$3:$B$408,SummaryFY27!$A17,'FY 27 Project Listing'!$O$3:$O$408) -> 193668 | F17: =SUMIF('FY 27 Project Listing'!$B$3:$B$408,SummaryFY27!$A17,'FY 27 Project Listing'!$P$3:$P$408) -> 38817 | G17: =SUMIF('FY 27 Project Listing'!$B$3:$B$408,SummaryFY27!$A17,'FY 27 Project Listing'!$Q$3:$Q$408) -> 867935 | H17: =SUMIF('FY 27 Project Listing'!$B$3:$B$408,SummaryFY27!$A17,'FY 27 Project Listing'!$R$3:$R$408) -> 0 | I17: =SUMIF('FY 27 Project Listing'!$B$3:$B$408,SummaryFY27!$A17,'FY 27 Project Listing'!$S$3:$S$408) -> 1490835 | J17: =COUNTIF('FY 27 Project Listing'!$B$3:$B$408,SummaryFY27!$A17) -> 58
A18: 46490 | B18: =SUMIF('FY 27 Project Listing'!$B$3:$B$408,SummaryFY27!$A18,'FY 27 Project Listing'!$L$3:$L$408) -> 70601 | C18: =SUMIF('FY 27 Project Listing'!$B$3:$B$408,SummaryFY27!$A18,'FY 27 Project Listing'!$M$3:$M$408) -> 4566 | D18: =SUMIF('FY 27 Project Listing'!$B$3:$B$408,SummaryFY27!$A18,'FY 27 Project Listing'!$N$3:$N$408) -> 382915 | E18: =SUMIF('FY 27 Project Listing'!$B$3:$B$408,SummaryFY27!$A18,'FY 27 Project Listing'!$O$3:$O$408) -> 301914 | F18: =SUMIF('FY 27 Project Listing'!$B$3:$B$408,SummaryFY27!$A18,'FY 27 Project Listing'!$P$3:$P$408) -> 15808 | G18: =SUMIF('FY 27 Project Listing'!$B$3:$B$408,SummaryFY27!$A18,'FY 27 Project Listing'!$Q$3:$Q$408) -> 104568 | H18: =SUMIF('FY 27 Project Listing'!$B$3:$B$408,SummaryFY27!$A18,'FY 27 Project Listing'!$R$3:$R$408) -> 174000 | I18: =SUMIF('FY 27 Project Listing'!$B$3:$B$408,SummaryFY27!$A18,'FY 27 Project Listing'!$S$3:$S$408) -> 724573 | J18: =COUNTIF('FY 27 Project Listing'!$B$3:$B$408,SummaryFY27!$A18) -> 13
A19: 46518 | B19: =SUMIF('FY 27 Project Listing'!$B$3:$B$408,SummaryFY27!$A19,'FY 27 Project Listing'!$L$3:$L$408) -> 168889 | C19: =SUMIF('FY 27 Project Listing'!$B$3:$B$408,SummaryFY27!$A19,'FY 27 Project Listing'!$M$3:$M$408) -> 8991 | D19: =SUMIF('FY 27 Project Listing'!$B$3:$B$408,SummaryFY27!$A19,'FY 27 Project Listing'!$N$3:$N$408) -> 74011 | E19: =SUMIF('FY 27 Project Listing'!$B$3:$B$408,SummaryFY27!$A19,'FY 27 Project Listing'!$O$3:$O$408) -> 102005 | F19: =SUMIF('FY 27 Project Listing'!$B$3:$B$408,SummaryFY27!$A19,'FY 27 Project Listing'!$P$3:$P$408) -> 13065 | G19: =SUMIF('FY 27 Project Listing'!$B$3:$B$408,SummaryFY27!$A19,'FY 27 Project Listing'!$Q$3:$Q$408) -> 883229 | H19: =SUMIF('FY 27 Project Listing'!$B$3:$B$408,SummaryFY27!$A19,'FY 27 Project Listing'!$R$3:$R$408) -> 0 | I19: =SUMIF('FY 27 Project Listing'!$B$3:$B$408,SummaryFY27!$A19,'FY 27 Project Listing'!$S$3:$S$408) -> 1587553 | J19: =COUNTIF('FY 27 Project Listing'!$B$3:$B$408,SummaryFY27!$A19) -> 24
A20: 46546 | B20: =SUMIF('FY 27 Project Listing'!$B$3:$B$408,SummaryFY27!$A20,'FY 27 Project Listing'!$L$3:$L$408) -> 0 | C20: =SUMIF('FY 27 Project Listing'!$B$3:$B$408,SummaryFY27!$A20,'FY 27 Project Listing'!$M$3:$M$408) -> 0 | D20: =SUMIF('FY 27 Project Listing'!$B$3:$B$408,SummaryFY27!$A20,'FY 27 Project Listing'!$N$3:$N$408) -> 0 | E20: =SUMIF('FY 27 Project Listing'!$B$3:$B$408,SummaryFY27!$A20,'FY 27 Project Listing'!$O$3:$O$408) -> 0 | F20: =SUMIF('FY 27 Project Listing'!$B$3:$B$408,SummaryFY27!$A20,'FY 27 Project Listing'!$P$3:$P$408) -> 0 | G20: =SUMIF('FY 27 Project Listing'!$B$3:$B$408,SummaryFY27!$A20,'FY 27 Project Listing'!$Q$3:$Q$408) -> 0 | H20: =SUMIF('FY 27 Project Listing'!$B$3:$B$408,SummaryFY27!$A20,'FY 27 Project Listing'!$R$3:$R$408) -> 0 | I20: =SUMIF('FY 27 Project Listing'!$B$3:$B$408,SummaryFY27!$A20,'FY 27 Project Listing'!$S$3:$S$408) -> 0 | J20: =COUNTIF('FY 27 Project Listing'!$B$3:$B$408,SummaryFY27!$A20) -> 0
A21: TOTALS | B21: =SUM(B9:B20) -> 3770144 | C21: =SUM(C9:C20) -> 1991073 | D21: =SUM(D9:D20) -> 4701139 | E21: =SUM(E9:E20) -> 6648061 | F21: =SUM(F9:F20) -> 870142 | G21: =SUM(G9:G20) -> 15153876 | H21: =SUM(H9:H20) -> 335792 | I21: =SUM(I9:I20) -> 53555476 | J21: =SUM(J9:J20) -> 406
A23: REGION | B23: ASPHALT | C23: CONCRETE | D23: EXCAVATION | E23: BASE COURSE | F23: BRIDGE DECK | G23: MILLING | H23: GRINDING | I23: STRIPING | J23: PROJECTS
B24: (Tons) | C24: (Sq Yds) | D24: (Cu Yds) | E24: (Tons) | F24: (Sq Ft) | G24: (Sq Yds) | H24: (Sq Yds) | I24: (Lin Ft)
A25: Central Office | B25: =SUMIF('FY 27 Project Listing'!$C$3:$C$408,SummaryFY27!$A25,'FY 27 Project Listing'!$L$3:$L$408) -> 0 | C25: =SUMIF('FY 27 Project Listing'!$C$3:$C$408,SummaryFY27!$A25,'FY 27 Project Listing'!$M$3:$M$408) -> 0 | D25: =SUMIF('FY 27 Project Listing'!$C$3:$C$408,SummaryFY27!$A25,'FY 27 Project Listing'!$N$3:$N$408) -> 0 | E25: =SUMIF('FY 27 Project Listing'!$C$3:$C$408,SummaryFY27!$A25,'FY 27 Project Listing'!$O$3:$O$408) -> 0 | F25: =SUMIF('FY 27 Project Listing'!$C$3:$C$408,SummaryFY27!$A25,'FY 27 Project Listing'!$P$3:$P$408) -> 0 | G25: =SUMIF('FY 27 Project Listing'!$C$3:$C$408,SummaryFY27!$A25,'FY 27 Project Listing'!$Q$3:$Q$408) -> 0 | H25: =SUMIF('FY 27 Project Listing'!$C$3:$C$408,SummaryFY27!$A25,'FY 27 Project Listing'!$R$3:$R$408) -> 0 | I25: =SUMIF('FY 27 Project Listing'!$C$3:$C$408,SummaryFY27!$A25,'FY 27 Project Listing'!$S$3:$S$408) -> 0 | J25: =COUNTIF('FY 27 Project Listing'!$C$3:$C$408,SummaryFY27!$A25) -> 0
A26: South West | B26: =SUMIF('FY 27 Project Listing'!$C$3:$C$408,SummaryFY27!$A26,'FY 27 Project Listing'!$L$3:$L$408) -> 925212 | C26: =SUMIF('FY 27 Project Listing'!$C$3:$C$408,SummaryFY27!$A26,'FY 27 Project Listing'!$M$3:$M$408) -> 153526 | D26: =SUMIF('FY 27 Project Listing'!$C$3:$C$408,SummaryFY27!$A26,'FY 27 Project Listing'!$N$3:$N$408) -> 1103782 | E26: =SUMIF('FY 27 Project Listing'!$C$3:$C$408,SummaryFY27!$A26,'FY 27 Project Listing'!$O$3:$O$408) -> 1342739 | F26: =SUMIF('FY 27 Project Listing'!$C$3:$C$408,SummaryFY27!$A26,'FY 27 Project Listing'!$P$3:$P$408) -> 201073 | G26: =SUMIF('FY 27 Project Listing'!$C$3:$C$408,SummaryFY27!$A26,'FY 27 Project Listing'!$Q$3:$Q$408) -> 3219789 | H26: =SUMIF('FY 27 Project Listing'!$C$3:$C$408,SummaryFY27!$A26,'FY 27 Project Listing'!$R$3:$R$408) -> 174000 | I26: =SUMIF('FY 27 Project Listing'!$C$3:$C$408,SummaryFY27!$A26,'FY 27 Project Listing'!$S$3:$S$408) -> 10618726 | J26: =COUNTIF('FY 27 Project Listing'!$C$3:$C$408,SummaryFY27!$A26) -> 123
A27: South East | B27: =SUMIF('FY 27 Project Listing'!$C$3:$C$408,SummaryFY27!$A27,'FY 27 Project Listing'!$L$3:$L$408) -> 486374 | C27: =SUMIF('FY 27 Project Listing'!$C$3:$C$408,SummaryFY27!$A27,'FY 27 Project Listing'!$M$3:$M$408) -> 621945 | D27: =SUMIF('FY 27 Project Listing'!$C$3:$C$408,SummaryFY27!$A27,'FY 27 Project Listing'!$N$3:$N$408) -> 963756 | E27: =SUMIF('FY 27 Project Listing'!$C$3:$C$408,SummaryFY27!$A27,'FY 27 Project Listing'!$O$3:$O$408) -> 1492761 | F27: =SUMIF('FY 27 Project Listing'!$C$3:$C$408,SummaryFY27!$A27,'FY 27 Project Listing'!$P$3:$P$408) -> 148507 | G27: =SUMIF('FY 27 Project Listing'!$C$3:$C$408,SummaryFY27!$A27,'FY 27 Project Listing'!$Q$3:$Q$408) -> 2060439 | H27: =SUMIF('FY 27 Project Listing'!$C$3:$C$408,SummaryFY27!$A27,'FY 27 Project Listing'!$R$3:$R$408) -> 0 | I27: =SUMIF('FY 27 Project Listing'!$C$3:$C$408,SummaryFY27!$A27,'FY 27 Project Listing'!$S$3:$S$408) -> 6138622 | J27: =COUNTIF('FY 27 Project Listing'!$C$3:$C$408,SummaryFY27!$A27) -> 58
A28: North East | B28: =SUMIF('FY 27 Project Listing'!$C$3:$C$408,SummaryFY27!$A28,'FY 27 Project Listing'!$L$3:$L$408) -> 765291 | C28: =SUMIF('FY 27 Project Listing'!$C$3:$C$408,SummaryFY27!$A28,'FY 27 Project Listing'!$M$3:$M$408) -> 928803 | D28: =SUMIF('FY 27 Project Listing'!$C$3:$C$408,SummaryFY27!$A28,'FY 27 Project Listing'!$N$3:$N$408) -> 1756960 | E28: =SUMIF('FY 27 Project Listing'!$C$3:$C$408,SummaryFY27!$A28,'FY 27 Project Listing'!$O$3:$O$408) -> 2781055 | F28: =SUMIF('FY 27 Project Listing'!$C$3:$C$408,SummaryFY27!$A28,'FY 27 Project Listing'!$P$3:$P$408) -> 240483 | G28: =SUMIF('FY 27 Project Listing'!$C$3:$C$408,SummaryFY27!$A28,'FY 27 Project Listing'!$Q$3:$Q$408) -> 2670385 | H28: =SUMIF('FY 27 Project Listing'!$C$3:$C$408,SummaryFY27!$A28,'FY 27 Project Listing'!$R$3:$R$408) -> 100300 | I28: =SUMIF('FY 27 Project Listing'!$C$3:$C$408,SummaryFY27!$A28,'FY 27 Project Listing'!$S$3:$S$408) -> 11769592 | J28: =COUNTIF('FY 27 Project Listing'!$C$3:$C$408,SummaryFY27!$A28) -> 58
A29: North Central | B29: =SUMIF('FY 27 Project Listing'!$C$3:$C$408,SummaryFY27!$A29,'FY 27 Project Listing'!$L$3:$L$408) -> 872090 | C29: =SUMIF('FY 27 Project Listing'!$C$3:$C$408,SummaryFY27!$A29,'FY 27 Project Listing'!$M$3:$M$408) -> 161020 | D29: =SUMIF('FY 27 Project Listing'!$C$3:$C$408,SummaryFY27!$A29,'FY 27 Project Listing'!$N$3:$N$408) -> 510737 | E29: =SUMIF('FY 27 Project Listing'!$C$3:$C$408,SummaryFY27!$A29,'FY 27 Project Listing'!$O$3:$O$408) -> 698151 | F29: =SUMIF('FY 27 Project Listing'!$C$3:$C$408,SummaryFY27!$A29,'FY 27 Project Listing'!$P$3:$P$408) -> 85656 | G29: =SUMIF('FY 27 Project Listing'!$C$3:$C$408,SummaryFY27!$A29,'FY 27 Project Listing'!$Q$3:$Q$408) -> 4243318 | H29: =SUMIF('FY 27 Project Listing'!$C$3:$C$408,SummaryFY27!$A29,'FY 27 Project Listing'!$R$3:$R$408) -> 49516 | I29: =SUMIF('FY 27 Project Listing'!$C$3:$C$408,SummaryFY27!$A29,'FY 27 Project Listing'!$S$3:$S$408) -> 16207038 | J29: =COUNTIF('FY 27 Project Listing'!$C$3:$C$408,SummaryFY27!$A29) -> 80
A30: North West | B30: =SUMIF('FY 27 Project Listing'!$C$3:$C$408,SummaryFY27!$A30,'FY 27 Project Listing'!$L$3:$L$408) -> 721177 | C30: =SUMIF('FY 27 Project Listing'!$C$3:$C$408,SummaryFY27!$A30,'FY 27 Project Listing'!$M$3:$M$408) -> 125779 | D30: =SUMIF('FY 27 Project Listing'!$C$3:$C$408,SummaryFY27!$A30,'FY 27 Project Listing'!$N$3:$N$408) -> 365904 | E30: =SUMIF('FY 27 Project Listing'!$C$3:$C$408,SummaryFY27!$A30,'FY 27 Project Listing'!$O$3:$O$408) -> 333355 | F30: =SUMIF('FY 27 Project Listing'!$C$3:$C$408,SummaryFY27!$A30,'FY 27 Project Listing'!$P$3:$P$408) -> 194423 | G30: =SUMIF('FY 27 Project Listing'!$C$3:$C$408,SummaryFY27!$A30,'FY 27 Project Listing'!$Q$3:$Q$408) -> 2959945 | H30: =SUMIF('FY 27 Project Listing'!$C$3:$C$408,SummaryFY27!$A30,'FY 27 Project Listing'!$R$3:$R$408) -> 11976 | I30: =SUMIF('FY 27 Project Listing'!$C$3:$C$408,SummaryFY27!$A30,'FY 27 Project Listing'!$S$3:$S$408) -> 8821498 | J30: =COUNTIF('FY 27 Project Listing'!$C$3:$C$408,SummaryFY27!$A30) -> 87
A31: TOTALS | B31: =SUM(B25:B30) -> 3770144 | C31: =SUM(C25:C30) -> 1991073 | D31: =SUM(D25:D30) -> 4701139 | E31: =SUM(E25:E30) -> 6648061 | F31: =SUM(F25:F30) -> 870142 | G31: =SUM(G25:G30) -> 15153876 | H31: =SUM(H25:H30) -> 335792 | I31: =SUM(I25:I30) -> 53555476 | J31: =SUM(J25:J30) -> 406
A33: PROGRAM | B33: ASPHALT | C33: CONCRETE | D33: EXCAVATION | E33: BASE COURSE | F33: BRIDGE DECK | G33: MILLING | H33: GRINDING | I33: STRIPING | J33: PROJECTS
B34: (Tons) | C34: (Sq Yds) | D34: (Cu Yds) | E34: (Tons) | F34: (Sq Ft) | G34: (Sq Yds) | H34: (Sq Yds) | I34: (Lin Ft)
A35: Majors | B35: =SUMIF('FY 27 Project Listing'!$K$3:$K$408,SummaryFY27!$A35,'FY 27 Project Listing'!$L$3:$L$408) -> 139534 | C35: =SUMIF('FY 27 Project Listing'!$K$3:$K$408,SummaryFY27!$A35,'FY 27 Project Listing'!$M$3:$M$408) -> 828910 | D35: =SUMIF('FY 27 Project Listing'!$K$3:$K$408,SummaryFY27!$A35,'FY 27 Project Listing'!$N$3:$N$408) -> 1633667 | E35: =SUMIF('FY 27 Project Listing'!$K$3:$K$408,SummaryFY27!$A35,'FY 27 Project Listing'!$O$3:$O$408) -> 2568255 | F35: =SUMIF('FY 27 Project Listing'!$K$3:$K$408,SummaryFY27!$A35,'FY 27 Project Listing'!$P$3:$P$408) -> 205095 | G35: =SUMIF('FY 27 Project Listing'!$K$3:$K$408,SummaryFY27!$A35,'FY 27 Project Listing'!$Q$3:$Q$408) -> 24611 | H35: =SUMIF('FY 27 Project Listing'!$K$3:$K$408,SummaryFY27!$A35,'FY 27 Project Listing'!$R$3:$R$408) -> 0 | I35: =SUMIF('FY 27 Project Listing'!$K$3:$K$408,SummaryFY27!$A35,'FY 27 Project Listing'!$S$3:$S$408) -> 1306801 | J35: =COUNTIF('FY 27 Project Listing'!$K$3:$K$408,SummaryFY27!$A35) -> 16
A36: SHR | B36: =SUMIF('FY 27 Project Listing'!$K$3:$K$408,SummaryFY27!$A36,'FY 27 Project Listing'!$L$3:$L$408) -> 3315679 | C36: =SUMIF('FY 27 Project Listing'!$K$3:$K$408,SummaryFY27!$A36,'FY 27 Project Listing'!$M$3:$M$408) -> 962392 | D36: =SUMIF('FY 27 Project Listing'!$K$3:$K$408,SummaryFY27!$A36,'FY 27 Project Listing'!$N$3:$N$408) -> 2415941 | E36: =SUMIF('FY 27 Project Listing'!$K$3:$K$408,SummaryFY27!$A36,'FY 27 Project Listing'!$O$3:$O$408) -> 3248123 | F36: =SUMIF('FY 27 Project Listing'!$K$3:$K$408,SummaryFY27!$A36,'FY 27 Project Listing'!$P$3:$P$408) -> 429402 | G36: =SUMIF('FY 27 Project Listing'!$K$3:$K$408,SummaryFY27!$A36,'FY 27 Project Listing'!$Q$3:$Q$408) -> 14523920 | H36: =SUMIF('FY 27 Project Listing'!$K$3:$K$408,SummaryFY27!$A36,'FY 27 Project Listing'!$R$3:$R$408) -> 335792 | I36: =SUMIF('FY 27 Project Listing'!$K$3:$K$408,SummaryFY27!$A36,'FY 27 Project Listing'!$S$3:$S$408) -> 26576049 | J36: =COUNTIF('FY 27 Project Listing'!$K$3:$K$408,SummaryFY27!$A36) -> 214
A37: Mega Projects | B37: =SUMIF('FY 27 Project Listing'!$K$3:$K$408,SummaryFY27!$A37,'FY 27 Project Listing'!$L$3:$L$408) -> 0 | C37: =SUMIF('FY 27 Project Listing'!$K$3:$K$408,SummaryFY27!$A37,'FY 27 Project Listing'!$M$3:$M$408) -> 0 | D37: =SUMIF('FY 27 Project Listing'!$K$3:$K$408,SummaryFY27!$A37,'FY 27 Project Listing'!$N$3:$N$408) -> 27000 | E37: =SUMIF('FY 27 Project Listing'!$K$3:$K$408,SummaryFY27!$A37,'FY 27 Project Listing'!$O$3:$O$408) -> 1600 | F37: =SUMIF('FY 27 Project Listing'!$K$3:$K$408,SummaryFY27!$A37,'FY 27 Project Listing'!$P$3:$P$408) -> 0 | G37: =SUMIF('FY 27 Project Listing'!$K$3:$K$408,SummaryFY27!$A37,'FY 27 Project Listing'!$Q$3:$Q$408) -> 0 | H37: =SUMIF('FY 27 Project Listing'!$K$3:$K$408,SummaryFY27!$A37,'FY 27 Project Listing'!$R$3:$R$408) -> 0 | I37: =SUMIF('FY 27 Project Listing'!$K$3:$K$408,SummaryFY27!$A37,'FY 27 Project Listing'!$S$3:$S$408) -> 0 | J37: =COUNTIF('FY 27 Project Listing'!$K$3:$K$408,SummaryFY27!$A37) -> 1
A38: Local | B38: =SUMIF('FY 27 Project Listing'!$K$3:$K$408,SummaryFY27!$A38,'FY 27 Project Listing'!$L$3:$L$408) -> 314907 | C38: =SUMIF('FY 27 Project Listing'!$K$3:$K$408,SummaryFY27!$A38,'FY 27 Project Listing'!$M$3:$M$408) -> 199771 | D38: =SUMIF('FY 27 Project Listing'!$K$3:$K$408,SummaryFY27!$A38,'FY 27 Project Listing'!$N$3:$N$408) -> 624531 | E38: =SUMIF('FY 27 Project Listing'!$K$3:$K$408,SummaryFY27!$A38,'FY 27 Project Listing'!$O$3:$O$408) -> 830083 | F38: =SUMIF('FY 27 Project Listing'!$K$3:$K$408,SummaryFY27!$A38,'FY 27 Project Listing'!$P$3:$P$408) -> 235220 | G38: =SUMIF('FY 27 Project Listing'!$K$3:$K$408,SummaryFY27!$A38,'FY 27 Project Listing'!$Q$3:$Q$408) -> 605174 | H38: =SUMIF('FY 27 Project Listing'!$K$3:$K$408,SummaryFY27!$A38,'FY 27 Project Listing'!$R$3:$R$408) -> 0 | I38: =SUMIF('FY 27 Project Listing'!$K$3:$K$408,SummaryFY27!$A38,'FY 27 Project Listing'!$S$3:$S$408) -> 1644963 | J38: =COUNTIF('FY 27 Project Listing'!$K$3:$K$408,SummaryFY27!$A38) -> 168
A39: HC Bridges | B39: =SUMIF('FY 27 Project Listing'!$K$3:$K$408,SummaryFY27!$A39,'FY 27 Project Listing'!$L$3:$L$408) -> 0 | C39: =SUMIF('FY 27 Project Listing'!$K$3:$K$408,SummaryFY27!$A39,'FY 27 Project Listing'!$M$3:$M$408) -> 0 | D39: =SUMIF('FY 27 Project Listing'!$K$3:$K$408,SummaryFY27!$A39,'FY 27 Project Listing'!$N$3:$N$408) -> 0 | E39: =SUMIF('FY 27 Project Listing'!$K$3:$K$408,SummaryFY27!$A39,'FY 27 Project Listing'!$O$3:$O$408) -> 0 | F39: =SUMIF('FY 27 Project Listing'!$K$3:$K$408,SummaryFY27!$A39,'FY 27 Project Listing'!$P$3:$P$408) -> 0 | G39: =SUMIF('FY 27 Project Listing'!$K$3:$K$408,SummaryFY27!$A39,'FY 27 Project Listing'!$Q$3:$Q$408) -> 0 | H39: =SUMIF('FY 27 Project Listing'!$K$3:$K$408,SummaryFY27!$A39,'FY 27 Project Listing'!$R$3:$R$408) -> 0 | I39: =SUMIF('FY 27 Project Listing'!$K$3:$K$408,SummaryFY27!$A39,'FY 27 Project Listing'!$S$3:$S$408) -> 0 | J39: =COUNTIF('FY 27 Project Listing'!$K$3:$K$408,SummaryFY27!$A39) -> 0
A40: Misc | B40: =SUMIF('FY 27 Project Listing'!$K$3:$K$408,SummaryFY27!$A40,'FY 27 Project Listing'!$L$3:$L$408) -> 24 | C40: =SUMIF('FY 27 Project Listing'!$K$3:$K$408,SummaryFY27!$A40,'FY 27 Project Listing'!$M$3:$M$408) -> 0 | D40: =SUMIF('FY 27 Project Listing'!$K$3:$K$408,SummaryFY27!$A40,'FY 27 Project Listing'!$N$3:$N$408) -> 0 | E40: =SUMIF('FY 27 Project Listing'!$K$3:$K$408,SummaryFY27!$A40,'FY 27 Project Listing'!$O$3:$O$408) -> 0 | F40: =SUMIF('FY 27 Project Listing'!$K$3:$K$408,SummaryFY27!$A40,'FY 27 Project Listing'!$P$3:$P$408) -> 425 | G40: =SUMIF('FY 27 Project Listing'!$K$3:$K$408,SummaryFY27!$A40,'FY 27 Project Listing'!$Q$3:$Q$408) -> 171 | H40: =SUMIF('FY 27 Project Listing'!$K$3:$K$408,SummaryFY27!$A40,'FY 27 Project Listing'!$R$3:$R$408) -> 0 | I40: =SUMIF('FY 27 Project Listing'!$K$3:$K$408,SummaryFY27!$A40,'FY 27 Project Listing'!$S$3:$S$408) -> 24027663 | J40: =COUNTIF('FY 27 Project Listing'!$K$3:$K$408,SummaryFY27!$A40) -> 7
A41: TOTALS | B41: =SUM(B35:B40) -> 3770144 | C41: =SUM(C35:C40) -> 1991073 | D41: =SUM(D35:D40) -> 4701139 | E41: =SUM(E35:E40) -> 6648061 | F41: =SUM(F35:F40) -> 870142 | G41: =SUM(G35:G40) -> 15153876 | H41: =SUM(H35:H40) -> 335792 | I41: =SUM(I35:I40) -> 53555476 | J41: =SUM(J35:J40) -> 406
A43: DESIGN-BUILD CONTRACT DATE* | B43: ASPHALT | C43: CONCRETE | D43: EXCAVATION | E43: BASE COURSE | F43: BRIDGE DECK | G43: MILLING | H43: GRINDING | I43: STRIPING | J43: PROJECTS
A45: 46228 | B45: =SUMIF('FY 27 Project Listing'!$B$3:$B$9965,SummaryFY27!$A45,'FY 27 Project Listing'!L$3:L$9965) -> 53000 | C45: =SUMIF('FY 27 Project Listing'!$B$3:$B$9965,SummaryFY27!$A45,'FY 27 Project Listing'!M$3:M$9965) -> 122500 | D45: =SUMIF('FY 27 Project Listing'!$B$3:$B$9965,SummaryFY27!$A45,'FY 27 Project Listing'!N$3:N$9965) -> 270000 | E45: =SUMIF('FY 27 Project Listing'!$B$3:$B$9965,SummaryFY27!$A45,'FY 27 Project Listing'!O$3:O$9965) -> 428000 | F45: =SUMIF('FY 27 Project Listing'!$B$3:$B$9965,SummaryFY27!$A45,'FY 27 Project Listing'!P$3:P$9965) -> 71500 | G45: =SUMIF('FY 27 Project Listing'!$B$3:$B$9965,SummaryFY27!$A45,'FY 27 Project Listing'!Q$3:Q$9965) -> 187000 | H45: =SUMIF('FY 27 Project Listing'!$B$3:$B$9965,SummaryFY27!$A45,'FY 27 Project Listing'!R$3:R$9965) -> 0 | I45: =SUMIF('FY 27 Project Listing'!$B$3:$B$9965,SummaryFY27!$A45,'FY 27 Project Listing'!S$3:S$9965) -> 550000 | J45: =COUNTIF('FY 27 Project Listing'!$B$3:$B$9965,SummaryFY27!$A45) -> 1
A46: TOTALS | B46: =SUM(B45:B45) -> 53000 | C46: =SUM(C45:C45) -> 122500 | D46: =SUM(D45:D45) -> 270000 | E46: =SUM(E45:E45) -> 428000 | F46: =SUM(F45:F45) -> 71500 | G46: =SUM(G45:G45) -> 187000 | H46: =SUM(H45:H45) -> 0 | I46: =SUM(I45:I45) -> 550000 | J46: =SUM(J45:J45) -> 1
A48: *Design/Build projects are not included in the totals above | I48: October 6, 2026 Snapshot

Sheet FY 27 Project Listing
A1: MONTH | B1: DATE | C1: MANUAL TYPE | D1: LET_DATE | E1: Proj Id | F1: Region | G1: Route Type | H1: Route Number | I1: Project Title | J1: Concept Code | K1: Program | L1: Asphalt (Tons) | M1: Concrete (Sq Yds) | N1: Excavation (Cubic Yds) | O1: Base Course (Tons) | P1: Bridge Deck (Sq Ft) | Q1: Milling (Sq Yds) | R1: Grinding (Sq Yds) | S1: Striping (Linear Ft)
L2: =SUM(L3:L408) -> 3770144 | M2: =SUM(M3:M408) -> 1991073 | N2: =SUM(N3:N408) -> 4701139 | O2: =SUM(O3:O408) -> 6648061 | P2: =SUM(P3:P408) -> 870142 | Q2: =SUM(Q3:Q408) -> 15153876 | R2: =SUM(R3:R408) -> 335792 | S2: =SUM(S3:S408) -> 53555476
A3: =LEFT(B3,FIND(" ",B3)-1) -> July | B3: =IF(D3="",B2,D3) -> July 14, 2026 | C3: {=_xlfn.IFS(F3="CO","Central Office",F3="NC","North Central",F3="NE","North East",F3="NW","North West",F3="SE","South East",F3="SW","South West")} -> North East | D3: July 14, 2026 | E3: 1130-65-71 | F3: NE | G3: IH | H3: 041 | I3: APPLETON - DE PERE | J3: RECSTE | K3: MAJORS | L3: 8625 | M3: 101110 | N3: 159400 | O3: 227628 | P3: 0 | Q3: 0 | R3: 0 | S3: 65742
A4: =LEFT(B4,FIND(" ",B4)-1) -> July | B4: =IF(D4="",B3,D4) -> July 14, 2026 | C4: {=_xlfn.IFS(F4="CO","Central Office",F4="NC","North Central",F4="NE","North East",F4="NW","North West",F4="SE","South East",F4="SW","South West")} -> North East | E4: 1130-65-72 | F4: NE | G4: IH | H4: 041 | I4: APPLETON - DE PERE | J4: RECSTE | K4: MAJORS | L4: 13043 | M4: 124007 | N4: 232936 | O4: 357296 | P4: 0 | Q4: 0 | R4: 0 | S4: 70152
A5: =LEFT(B5,FIND(" ",B5)-1) -> July | B5: =IF(D5="",B4,D5) -> July 14, 2026 | C5: {=_xlfn.IFS(F5="CO","Central Office",F5="NC","North Central",F5="NE","North East",F5="NW","North West",F5="SE","South East",F5="SW","South West")} -> North East | E5: 1130-65-73 | F5: NE | G5: IH | H5: 041 | I5: APPLETON - DE PERE | J5: RECSTE | K5: MAJORS | L5: 11211 | M5: 47810 | N5: 61666 | O5: 182443 | P5: 0 | Q5: 0 | R5: 0 | S5: 24776
A6: =LEFT(B6,FIND(" ",B6)-1) -> July | B6: =IF(D6="",B5,D6) -> July 14, 2026 | C6: {=_xlfn.IFS(F6="CO","Central Office",F6="NC","North Central",F6="NE","North East",F6="NW","North West",F6="SE","South East",F6="SW","South West")} -> North East | E6: 1130-65-74 | F6: NE | G6: STH | H6: 441 | I6: APPLETON - DE PERE | J6: RECSTE | K6: MAJORS | L6: 7175 | M6: 45234 | N6: 179386 | O6: 138141 | P6: 11580 | Q6: 0 | R6: 0 | S6: 30518
A7: =LEFT(B7,FIND(" ",B7)-1) -> July | B7: =IF(D7="",B6,D7) -> July 14, 2026 | C7: {=_xlfn.IFS(F7="CO","Central Office",F7="NC","North Central",F7="NE","North East",F7="NW","North West",F7="SE","South East",F7="SW","South West")} -> North East | E7: 1130-65-78 | F7: NE | G7: STH | H7: 441 | I7: APPLETON - DE PERE | J7: RECSTE | K7: MAJORS | L7: 1332 | M7: 21707 | N7: 88823 | O7: 76664 | P7: 140661 | Q7: 0 | R7: 0 | S7: 24128
A8: =LEFT(B8,FIND(" ",B8)-1) -> July | B8: =IF(D8="",B7,D8) -> July 14, 2026 | C8: {=_xlfn.IFS(F8="CO","Central Office",F8="NC","North Central",F8="NE","North East",F8="NW","North West",F8="SE","South East",F8="SW","South West")} -> North Central | E8: 1166-04-85 | F8: NC | G8: IH | H8: 039 | I8: PORTAGE - COLOMA | J8: RSRF30 | K8: SHR | L8: 75100 | M8: 4400 | N8: 6100 | O8: 14000 | P8: 0 | Q8: 280000 | R8: 8300 | S8: 623000
A9: =LEFT(B9,FIND(" ",B9)-1) -> July | B9: =IF(D9="",B8,D9) -> July 14, 2026 | C9: {=_xlfn.IFS(F9="CO","Central Office",F9="NC","North Central",F9="NE","North East",F9="NW","North West",F9="SE","South East",F9="SW","South West")} -> South West | E9: 1670-01-78 | F9: SW | G9: USH | H9: 012 | I9: BARABOO - SAUK CITY | J9: MISC | K9: SHR | L9: 715 | M9: 0 | N9: 1100 | O9: 1870 | P9: 0 | Q9: 385 | R9: 0 | S9: 3760
A10: =LEFT(B10,FIND(" ",B10)-1) -> July | B10: =IF(D10="",B9,D10) -> July 14, 2026 | C10: {=_xlfn.IFS(F10="CO","Central Office",F10="NC","North Central",F10="NE","North East",F10="NW","North West",F10="SE","South East",F10="SW","South West")} -> South East | E10: 2030-10-71 | F10: SE | G10: STH | H10: 100 | I10: N MAYFAIR RD/N LOVERS LN | J10: BRRPL | K10: SHR | L10: 29000 | M10: 25400 | N10: 19600 | O10: 16500 | P10: 26900 | Q10: 126500 | R10: 0 | S10: 97000
A11: =LEFT(B11,FIND(" ",B11)-1) -> July | B11: =IF(D11="",B10,D11) -> July 14, 2026 | C11: {=_xlfn.IFS(F11="CO","Central Office",F11="NC","North Central",F11="NE","North East",F11="NW","North West",F11="SE","South East",F11="SW","South West")} -> South West | E11: 5845-16-76 | F11: SW | G11: USH | H11: 051 | I11: STOUGHTON - MADISON | J11: RECST | K11: MAJORS | L11: 4060 | M11: 41000 | N11: 66878 | O11: 92725 | P11: 6516 | Q11: 0 | R11: 0 | S11: 112615
A12: =LEFT(B12,FIND(" ",B12)-1) -> July | B12: =IF(D12="",B11,D12) -> July 14, 2026 | C12: {=_xlfn.IFS(F12="CO","Central Office",F12="NC","North Central",F12="NE","North East",F12="NW","North West",F12="SE","South East",F12="SW","South West")} -> South West | E12: 5845-16-78 | F12: SW | G12: USH | H12: 051 | I12: STOUGHTON - MADISON | J12: RECST | K12: MAJORS | L12: 0 | M12: 0 | N12: 0 | O12: 0 | P12: 0 | Q12: 0 | R12: 0 | S12: 0
A13: =LEFT(B13,FIND(" ",B13)-1) -> July | B13: =IF(D13="",B12,D13) -> July 14, 2026 | C13: {=_xlfn.IFS(F13="CO","Central Office",F13="NC","North Central",F13="NE","North East",F13="NW","North West",F13="SE","South East",F13="SW","South West")} -> South West | E13: 5845-16-87 | F13: SW | G13: USH | H13: 051 | I13: STOUGHTON - MADISON | J13: RECST | K13: MAJORS | L13: 0 | M13: 0 | N13: 0 | O13: 0 | P13: 0 | Q13: 0 | R13: 0 | S13: 0
A14: =LEFT(B14,FIND(" ",B14)-1) -> July | B14: =IF(D14="",B13,D14) -> July 14, 2026 | C14: {=_xlfn.IFS(F14="CO","Central Office",F14="NC","North Central",F14="NE","North East",F14="NW","North West",F14="SE","South East",F14="SW","South West")} -> South West | E14: 5845-16-89 | F14: SW | G14: USH | H14: 051 | I14: STOUGHTON - MADISON | J14: RECST | K14: MAJORS | L14: 0 | M14: 0 | N14: 0 | O14: 0 | P14: 0 | Q14: 0 | R14: 0 | S14: 0
A15: =LEFT(B15,FIND(" ",B15)-1) -> July | B15: =IF(D15="",B14,D15) -> July 14, 2026 | C15: {=_xlfn.IFS(F15="CO","Central Office",F15="NC","North Central",F15="NE","North East",F15="NW","North West",F15="SE","South East",F15="SW","South West")} -> South West | E15: 5845-16-90 | F15: SW | G15: USH | H15: 051 | I15: STOUGHTON - MADISON | J15: RECST | K15: MAJORS | L15: 0 | M15: 0 | N15: 0 | O15: 0 | P15: 0 | Q15: 0 | R15: 0 | S15: 0
... A18: =LEFT(B18,FIND(" ",B18)-1) -> July | B18: =IF(D18="",B17,D18) -> July 14, 2026 | C18: {=_xlfn.IFS(F18="CO","Central Office",F18="NC","North Central",F18="NE","North East",F18="NW","North West",F18="SE","South East",F18="SW","South West")} -> North Central | E18: 9030-07-72 | F18: NC | G18: STH | H18: 017 | I18: MERRILL - RHINELANDER | J18: PVRPLA | K18: SHR | L18: 61995 | M18: 0 | N18: 62673 | O18: 119050 | P18: 0 | Q18: 63210 | R18: 0 | S18: 171345
A19: =LEFT(B19,FIND(" ",B19)-1) -> August | B19: =IF(D19="",B18,D19) -> August 11, 2026 | C19: {=_xlfn.IFS(F19="CO","Central Office",F19="NC","North Central",F19="NE","North East",F19="NW","North West",F19="SE","South East",F19="SW","South West")} -> North Central | D19: August 11, 2026 | E19: 1053-07-85 | F19: NC | G19: STH | H19: 029 | I19: ABBOTSFORD - WAUSAU | J19: PVRPLA | K19: SHR | L19: 3970 | M19: 37810 | N19: 71406 | O19: 98749 | P19: 0 | Q19: 0 | R19: 0 | S19: 132898
A20: =LEFT(B20,FIND(" ",B20)-1) -> August | B20: =IF(D20="",B19,D20) -> August 11, 2026 | C20: {=_xlfn.IFS(F20="CO","Central Office",F20="NC","North Central",F20="NE","North East",F20="NW","North West",F20="SE","South East",F20="SW","South West")} -> South East | E20: 1090-09-75 | F20: SE | G20: IH | H20: 043 | I20: IH 43 ROCK FREEWAY | J20: PVRPLA | K20: SHR | L20: 38994 | M20: 192167 | N20: 225456 | O20: 463984 | P20: 37300 | Q20: 323584 | R20: 0 | S20: 716045
A21: =LEFT(B21,FIND(" ",B21)-1) -> August | B21: =IF(D21="",B20,D21) -> August 11, 2026 | C21: {=_xlfn.IFS(F21="CO","Central Office",F21="NC","North Central",F21="NE","North East",F21="NW","North West",F21="SE","South East",F21="SW","South West")} -> South East | E21: 1090-09-77 | F21: SE | G21: IH | H21: 043 | I21: IH 43 ROCK FREEWAY | J21: PVRPLA | K21: SHR | L21: 61062 | M21: 188222 | N21: 276142 | O21: 455604 | P21: 24500 | Q21: 318462 | R21: 0 | S21: 564511
A22: =LEFT(B22,FIND(" ",B22)-1) -> August | B22: =IF(D22="",B21,D22) -> August 11, 2026 | C22: {=_xlfn.IFS(F22="CO","Central Office",F22="NC","North Central",F22="NE","North East",F22="NW","North West",F22="SE","South East",F22="SW","South West")} -> North East | E22: 1130-74-71 | F22: NE | G22: IH | H22: 041 | I22: GREEN BAY, IH 41 | J22: MISC | K22: SHR | L22: 1100 | M22: 30135 | N22: 13682 | O22: 12540 | P22: 17393 | Q22: 0 | R22: 0 | S22: 128240
A23: =LEFT(B23,FIND(" ",B23)-1) -> August | B23: =IF(D23="",B22,D23) -> August 11, 2026 | C23: {=_xlfn.IFS(F23="CO","Central Office",F23="NC","North Central",F23="NE","North East",F23="NW","North West",F23="SE","South East",F23="SW","South West")} -> North East | E23: 1227-08-73 | F23: NE | G23: IH | H23: 043 | I23: MANITOWOC - GREEN BAY | J23: RSRF30 | K23: SHR | L23: 107600 | M23: 8900 | N23: 15900 | O23: 16700 | P23: 0 | Q23: 406000 | R23: 18800 | S23: 604600
A24: =LEFT(B24,FIND(" ",B24)-1) -> August | B24: =IF(D24="",B23,D24) -> August 11, 2026 | C24: {=_xlfn.IFS(F24="CO","Central Office",F24="NC","North Central",F24="NE","North East",F24="NW","North West",F24="SE","South East",F24="SW","South West")} -> North Central | E24: 1510-02-60 | F24: NC | G24: USH | H24: 010 | I24: WAUPACA - APPLETON | J24: PSRS30 | K24: SHR | L24: 14000 | M24: 34643 | N24: 11210 | O24: 19510 | P24: 5453 | Q24: 23310 | R24: 14830 | S24: 190334
A25: =LEFT(B25,FIND(" ",B25)-1) -> August | B25: =IF(D25="",B24,D25) -> August 11, 2026 | C25: {=_xlfn.IFS(F25="CO","Central Office",F25="NC","North Central",F25="NE","North East",F25="NW","North West",F25="SE","South East",F25="SW","South West")} -> North East | E25: 4478-02-70 | F25: NE | G25: LOC | H25: STR | I25: T STOCKBRIDGE, LAKESHORE DRIVE | J25: BRRPL | K25: LOCAL | L25: 60 | M25: 0 | N25: 250 | O25: 280 | P25: 1097 | Q25: 0 | R25: 0 | S25: 0
A26: =LEFT(B26,FIND(" ",B26)-1) -> August | B26: =IF(D26="",B25,D26) -> August 11, 2026 | C26: {=_xlfn.IFS(F26="CO","Central Office",F26="NC","North Central",F26="NE","North East",F26="NW","North West",F26="SE","South East",F26="SW","South West")} -> South West | E26: 5090-00-70 | F26: SW | G26: CTH | H26: X | I26: STH 33 - CTH W (CTH X) | J26: BRRPL | K26: LOCAL | L26: 296 | M26: 0 | N26: 1260 | O26: 3010 | P26: 0 | Q26: 300 | R26: 0 | S26: 1560
A27: =LEFT(B27,FIND(" ",B27)-1) -> August | B27: =IF(D27="",B26,D27) -> August 11, 2026 | C27: {=_xlfn.IFS(F27="CO","Central Office",F27="NC","North Central",F27="NE","North East",F27="NW","North West",F27="SE","South East",F27="SW","South West")} -> South West | E27: 5650-00-72 | F27: SW | G27: LOC | H27: STR | I27: C EDGERTON,GEAR DR/TOWER DR/ARTISAN | J27: PVRPLA | K27: LOCAL | L27: 2523 | M27: 0 | N27: 6345 | O27: 10734 | P27: 0 | Q27: 0 | R27: 0 | S27: 0
A28: =LEFT(B28,FIND(" ",B28)-1) -> August | B28: =IF(D28="",B27,D28) -> August 11, 2026 | C28: {=_xlfn.IFS(F28="CO","Central Office",F28="NC","North Central",F28="NE","North East",F28="NW","North West",F28="SE","South East",F28="SW","South West")} -> South West | E28: 5730-00-64 | F28: SW | G28: STH | H28: 056 | I28: VIROQUA - RICHLAND CENTER | J28: PVRPLA | K28: SHR | L28: 35109 | M28: 0 | N28: 30959 | O28: 60129 | P28: 4750 | Q28: 184722 | R28: 0 | S28: 504964
A29: =LEFT(B29,FIND(" ",B29)-1) -> August | B29: =IF(D29="",B28,D29) -> August 11, 2026 | C29: {=_xlfn.IFS(F29="CO","Central Office",F29="NC","North Central",F29="NE","North East",F29="NW","North West",F29="SE","South East",F29="SW","South West")} -> South West | E29: 5865-02-64 | F29: SW | G29: STH | H29: 162 | I29: STODDARD - COON VALLEY | J29: RSRF20 | K29: SHR | L29: 22886 | M29: 0 | N29: 15754 | O29: 26732 | P29: 850 | Q29: 101995 | R29: 0 | S29: 224664
A30: =LEFT(B30,FIND(" ",B30)-1) -> August | B30: =IF(D30="",B29,D30) -> August 11, 2026 | C30: {=_xlfn.IFS(F30="CO","Central Office",F30="NC","North Central",F30="NE","North East",F30="NW","North West",F30="SE","South East",F30="SW","South West")} -> South West | E30: 5865-02-74 | F30: SW | G30: STH | H30: 162 | I30: STODDARD - COON VALLEY | J30: RSRF20 | K30: SHR | L30: 0 | M30: 0 | N30: 0 | O30: 0 | P30: 0 | Q30: 0 | R30: 0 | S30: 0
A31: =LEFT(B31,FIND(" ",B31)-1) -> August | B31: =IF(D31="",B30,D31) -> August 11, 2026 | C31: {=_xlfn.IFS(F31="CO","Central Office",F31="NC","North Central",F31="NE","North East",F31="NW","North West",F31="SE","South East",F31="SW","South West")} -> South West | E31: 5932-00-74 | F31: SW | G31: LOC | H31: STR | I31: T PRIMROSE, LEWIS ROAD | J31: BRRPL | K31: LOCAL | L31: 50 | M31: 0 | N31: 100 | O31: 200 | P31: 720 | Q31: 0 | R31: 0 | S31: 0
... A38: =LEFT(B38,FIND(" ",B38)-1) -> August | B38: =IF(D38="",B37,D38) -> August 11, 2026 | C38: {=_xlfn.IFS(F38="CO","Central Office",F38="NC","North Central",F38="NE","North East",F38="NW","North West",F38="SE","South East",F38="SW","South West")} -> South West | E38: 7005-00-71 | F38: SW | G38: LOC | H38: STR | I38: T LAGRANGE, ELLSWORTH ROAD | J38: BRRPL | K38: LOCAL | L38: 54 | M38: 0 | N38: 124 | O38: 278 | P38: 1020 | Q38: 0 | R38: 0 | S38: 0
A39: =LEFT(B39,FIND(" ",B39)-1) -> September | B39: =IF(D39="",B38,D39) -> September 15, 2026 | C39: {=_xlfn.IFS(F39="CO","Central Office",F39="NC","North Central",F39="NE","North East",F39="NW","North West",F39="SE","South East",F39="SW","South West")} -> North Central | D39: September 15, 2026 | E39: 1009-43-76 | F39: NC | G39: NON | H39: HWY | I39: 2026/2027 STATEWIDE TREE CLEARING | J39: MISC | K39: SHR | L39: 0 | M39: 0 | N39: 0 | O39: 0 | P39: 0 | Q39: 0 | R39: 0 | S39: 0
A40: =LEFT(B40,FIND(" ",B40)-1) -> September | B40: =IF(D40="",B39,D40) -> September 15, 2026 | C40: {=_xlfn.IFS(F40="CO","Central Office",F40="NC","North Central",F40="NE","North East",F40="NW","North West",F40="SE","South East",F40="SW","South West")} -> North West | E40: 1020-00-86 | F40: NW | G40: IH | H40: 094 | I40: OSSEO - BLACK RIVER FALLS | J40: BRRHB | K40: SHR | L40: 170 | M40: 153 | N40: 2320 | O40: 1140 | P40: 1564 | Q40: 677 | R40: 0 | S40: 0
A41: =LEFT(B41,FIND(" ",B41)-1) -> September | B41: =IF(D41="",B40,D41) -> September 15, 2026 | C41: {=_xlfn.IFS(F41="CO","Central Office",F41="NC","North Central",F41="NE","North East",F41="NW","North West",F41="SE","South East",F41="SW","South West")} -> North West | E41: 1023-00-81 | F41: NW | G41: IH | H41: 094 | I41: BLACK RIVER FALLS - TOMAH | J41: BRRHB | K41: SHR | L41: 1002 | M41: 119 | N41: 2329 | O41: 1669 | P41: 5640 | Q41: 4125 | R41: 0 | S41: 13550
A42: =LEFT(B42,FIND(" ",B42)-1) -> September | B42: =IF(D42="",B41,D42) -> September 15, 2026 | C42: {=_xlfn.IFS(F42="CO","Central Office",F42="NC","North Central",F42="NE","North East",F42="NW","North West",F42="SE","South East",F42="SW","South West")} -> North West | E42: 1050-01-83 | F42: NW | G42: STH | H42: 029 | I42: CHIPPEWA FALLS - THORP | J42: BRRHB | K42: SHR | L42: 806 | M42: 0 | N42: 2546 | O42: 1398 | P42: 6608 | Q42: 0 | R42: 0 | S42: 2280
A43: =LEFT(B43,FIND(" ",B43)-1) -> September | B43: =IF(D43="",B42,D43) -> September 15, 2026 | C43: {=_xlfn.IFS(F43="CO","Central Office",F43="NC","North Central",F43="NE","North East",F43="NW","North West",F43="SE","South East",F43="SW","South West")} -> North Central | E43: 1140-00-78 | F43: NC | G43: USH | H43: 045 | I43: NEW LONDON - CLINTONVILLE | J43: RSRF20 | K43: SHR | L43: 57018 | M43: 0 | N43: 8811 | O43: 12350 | P43: 0 | Q43: 264381 | R43: 0 | S43: 324112
A44: =LEFT(B44,FIND(" ",B44)-1) -> September | B44: =IF(D44="",B43,D44) -> September 15, 2026 | C44: {=_xlfn.IFS(F44="CO","Central Office",F44="NC","North Central",F44="NE","North East",F44="NW","North West",F44="SE","South East",F44="SW","South West")} -> North Central | E44: 1166-05-66 | F44: NC | G44: IH | H44: 039 | I44: STEVENS POINT - WAUSAU | J44: PSRS30 | K44: SHR | L44: 8595 | M44: 5584 | N44: 2099 | O44: 7639 | P44: 0 | Q44: 71238 | R44: 6603 | S44: 327565
A45: =LEFT(B45,FIND(" ",B45)-1) -> September | B45: =IF(D45="",B44,D45) -> September 15, 2026 | C45: {=_xlfn.IFS(F45="CO","Central Office",F45="NC","North Central",F45="NE","North East",F45="NW","North West",F45="SE","South East",F45="SW","South West")} -> North Central | E45: 1166-05-80 | F45: NC | G45: IH | H45: 039 | I45: PLAINFIELD - STEVENS POINT | J45: RSRF20 | K45: SHR | L45: 79067 | M45: 126 | N45: 5910 | O45: 9029 | P45: 0 | Q45: 407075 | R45: 0 | S45: 733616
A46: =LEFT(B46,FIND(" ",B46)-1) -> September | B46: =IF(D46="",B45,D46) -> September 15, 2026 | C46: {=_xlfn.IFS(F46="CO","Central Office",F46="NC","North Central",F46="NE","North East",F46="NW","North West",F46="SE","South East",F46="SW","South West")} -> North Central | E46: 1170-22-70 | F46: NC | G46: USH | H46: 051 | I46: MINOCQUA - MANITOWISH | J46: BRRPL | K46: SHR | L46: 820 | M46: 305 | N46: 9100 | O46: 4830 | P46: 10070 | Q46: 0 | R46: 0 | S46: 1870
A47: =LEFT(B47,FIND(" ",B47)-1) -> September | B47: =IF(D47="",B46,D47) -> September 15, 2026 | C47: {=_xlfn.IFS(F47="CO","Central Office",F47="NC","North Central",F47="NE","North East",F47="NW","North West",F47="SE","South East",F47="SW","South West")} -> North West | E47: 1180-00-81 | F47: NW | G47: USH | H47: 002 | I47: WENTWORTH - BRULE | J47: MISC | K47: SHR | L47: 885 | M47: 0 | N47: 35381 | O47: 2625 | P47: 0 | Q47: 0 | R47: 0 | S47: 780
A48: =LEFT(B48,FIND(" ",B48)-1) -> September | B48: =IF(D48="",B47,D48) -> September 15, 2026 | C48: {=_xlfn.IFS(F48="CO","Central Office",F48="NC","North Central",F48="NE","North East",F48="NW","North West",F48="SE","South East",F48="SW","South West")} -> North West | E48: 1180-01-72 | F48: NW | G48: USH | H48: 002 | I48: SUPERIOR - WENTWORTH | J48: RSRF10 | K48: SHR | L48: 20340 | M48: 0 | N48: 0 | O48: 3370 | P48: 0 | Q48: 133840 | R48: 0 | S48: 184983
...
