Workbook
Name projects: #REF!
Name projects2: #REF!
Name projects3: #REF!
Name projects4: #REF!

Sheet SummaryFY27
A1: THE PROJECT QUANTITIES SYSTEM
A2: ESTIMATED QUANTITIES FOR "LET" PROJECTS
A3: FISCAL YEAR 2027
A7: LET DATE | B7: ASPHALT | C7: CONCRETE | D7: EXCAVATION | E7: BASE COURSE | F7: BRIDGE DECK | G7: MILLING | H7: GRINDING | I7: STRIPING | J7: PROJECTS
B8: (Tons) | C8: (Sq Yds) | D8: (Cu Yds) | E8: (Tons) | F8: (Sq Ft) | G8: (Sq Yds) | H8: (Sq Yds) | I8: (Lin Ft)
A9: 46217 | B9: =SUMIF('FY 27 Project Listing'!$B$3:$B$408,SummaryFY27!$A9,'FY 27 Project Listing'!$L$3:$L$408) -> 256807 | C9: =SUMIF('FY 27 Project Listing'!$B$3:$B$408,SummaryFY27!$A9,'FY 27 Project Listing'!$M$3:$M$408) -> 410668 | D9: =SUMIF('FY 27 Project Listing'!$B$3:$B$408,SummaryFY27!$A9,'FY 27 Project Listing'!$N$3:$N$408) -> 936762 | E9: =SUMIF('FY 27 Project Listing'!$B$3:$B$408,SummaryFY27!$A9,'FY 27 Project Listing'!$O$3:$O$408) -> 1327392 | F9: =SUMIF('FY 27 Project Listing'!$B$3:$B$408,SummaryFY27!$A9,'FY 27 Project Listing'!$P$3:$P$408) -> 185657 | G9: =SUMIF('FY 27 Project Listing'!$B$3:$B$408,SummaryFY27!$A9,'FY 27 Project Listing'!$Q$3:$Q$408) -> 583621 | H9: =SUMIF('FY 27 Project Listing'!$B$3:$B$408,SummaryFY27!$A9,'FY 27 Project Listing'!$R$3:$R$408) -> 8300 | I9: =SUMIF('FY 27 Project Listing'!$B$3:$B$408,SummaryFY27!$A9,'FY 27 Project Listing'!$S$3:$S$408) -> 1405567 | J9: =COUNTIF('FY 27 Project Listing'!$B$3:$B$408,SummaryFY27!$A9) -> 16
A10: 46245 | B10: =SUMIF('FY 27 Project Listing'!$B$3:$B$408,SummaryFY27!$A10,'FY 27 Project Listing'!$L$3:$L$408) -> 368894 | C10: =SUMIF('FY 27 Project Listing'!$B$3:$B$408,SummaryFY27!$A10,'FY 27 Project Listing'!$M$3:$M$408) -> 494582 | D10: =SUMIF('FY 27 Project Listing'!$B$3:$B$408,SummaryFY27!$A10,'FY 27 Project Listing'!$N$3:$N$408) -> 730091 | E10: =SUMIF('FY 27 Project Listing'!$B$3:$B$408,SummaryFY27!$A10,'FY 27 Project Listing'!$O$3:$O$408) -> 1233990 | F10: =SUMIF('FY 27 Project Listing'!$B$3:$B$408,SummaryFY27!$A10,'FY 27 Project Listing'!$P$3:$P$408) -> 93083 | G10: =SUMIF('FY 27 Project Listing'!$B$3:$B$408,SummaryFY27!$A10,'FY 27 Project Listing'!$Q$3:$Q$408) -> 1581973 | H10: =SUMIF('FY 27 Project Listing'!$B$3:$B$408,SummaryFY27!$A10,'FY 27 Project Listing'!$R$3:$R$408) -> 33630 | I10: =SUMIF('FY 27 Project Listing'!$B$3:$B$408,SummaryFY27!$A10,'FY 27 Project Listing'!$S$3:$S$408) -> 3418886 | J10: =COUNTIF('FY 27 Project Listing'!$B$3:$B$408,SummaryFY27!$A10) -> 20
A11: 46280 | B11: =SUMIF('FY 27 Project Listing'!$B$3:$B$408,SummaryFY27!$A11,'FY 27 Project Listing'!$L$3:$L$408) -> 464276 | C11: =SUMIF('FY 27 Project Listing'!$B$3:$B$408,SummaryFY27!$A11,'FY 27 Project Listing'!$M$3:$M$408) -> 90897 | D11: =SUMIF('FY 27 Project Listing'!$B$3:$B$408,SummaryFY27!$A11,'FY 27 Project Listing'!$N$3:$N$408) -> 272334 | E11: =SUMIF('FY 27 Project Listing'!$B$3:$B$408,SummaryFY27!$A11,'FY 27 Project Listing'!$O$3:$O$408) -> 297957 | F11: =SUMIF('FY 27 Project Listing'!$B$3:$B$408,SummaryFY27!$A11,'FY 27 Project Listing'!$P$3:$P$408) -> 63684 | G11: =SUMIF('FY 27 Project Listing'!$B$3:$B$408,SummaryFY27!$A11,'FY 27 Project Listing'!$Q$3:$Q$408) -> 2359087 | H11: =SUMIF('FY 27 Project Listing'!$B$3:$B$408,SummaryFY27!$A11,'FY 27 Project Listing'!$R$3:$R$408) -> 6603 | I11: =SUMIF('FY 27 Project Listing'!$B$3:$B$408,SummaryFY27!$A11,'FY 27 Project Listing'!$S$3:$S$408) -> 3751868 | J11: =COUNTIF('FY 27 Project Listing'!$B$3:$B$408,SummaryFY27!$A11) -> 41
A12: 46308 | B12: =SUMIF('FY 27 Project Listing'!$B$3:$B$408,SummaryFY27!$A12,'FY 27 Project Listing'!$L$3:$L$408) -> 328596 | C12: =SUMIF('FY 27 Project Listing'!$B$3:$B$408,SummaryFY27!$A12,'FY 27 Project Listing'!$M$3:$M$408) -> 469156 | D12: =SUMIF('FY 27 Project Listing'!$B$3:$B$408,SummaryFY27!$A12,'FY 27 Project Listing'!$N$3:$N$408) -> 683865 | E12: =SUMIF('FY 27 Project Listing'!$B$3:$B$408,SummaryFY27!$A12,'FY 27 Project Listing'!$O$3:$O$408) -> 1314275 | F12: =SUMIF('FY 27 Project Listing'!$B$3:$B$408,SummaryFY27!$A12,'FY 27 Project Listing'!$P$3:$P$408) -> 140943 | G12: =SUMIF('FY 27 Project Listing'!$B$3:$B$408,SummaryFY27!$A12,'FY 27 Project Listing'!$Q$3:$Q$408) -> 1015779 | H12: =SUMIF('FY 27 Project Listing'!$B$3:$B$408,SummaryFY27!$A12,'FY 27 Project Listing'!$R$3:$R$408) -> 65976 | I12: =SUMIF('FY 27 Project Listing'!$B$3:$B$408,SummaryFY27!$A12,'FY 27 Project Listing'!$S$3:$S$408) -> 11186862 | J12: =COUNTIF('FY 27 Project Listing'!$B$3:$B$408,SummaryFY27!$A12) -> 34
A13: 46336 | B13: =SUMIF('FY 27 Project Listing'!$B$3:$B$408,SummaryFY27!$A13,'FY 27 Project Listing'!$L$3:$L$408) -> 389659 | C13: =SUMIF('FY 27 Project Listing'!$B$3:$B$408,SummaryFY27!$A13,'FY 27 Project Listing'!$M$3:$M$408) -> 44901 | D13: =SUMIF('FY 27 Project Listing'!$B$3:$B$408,SummaryFY27!$A13,'FY 27 Project Listing'!$N$3:$N$408) -> 402359 | E13: =SUMIF('FY 27 Project Listing'!$B$3:$B$408,SummaryFY27!$A13,'FY 27 Project Listing'!$O$3:$O$408) -> 468997 | F13: =SUMIF('FY 27 Project Listing'!$B$3:$B$408,SummaryFY27!$A13,'FY 27 Project Listing'!$P$3:$P$408) -> 40679 | G13: =SUMIF('FY 27 Project Listing'!$B$3:$B$408,SummaryFY27!$A13,'FY 27 Project Listing'!$Q$3:$Q$408) -> 1213947 | H13: =SUMIF('FY 27 Project Listing'!$B$3:$B$408,SummaryFY27!$A13,'FY 27 Project Listing'!$R$3:$R$408) -> 0 | I13: =SUMIF('FY 27 Project Listing'!$B$3:$B$408,SummaryFY27!$A13,'FY 27 Project Listing'!$S$3:$S$408) -> 2534403 | J13: =COUNTIF('FY 27 Project Listing'!$B$3:$B$408,SummaryFY27!$A13) -> 39
A14: 46364 | B14: =SUMIF('FY 27 Project Listing'!$B$3:$B$408,SummaryFY27!$A14,'FY 27 Project Listing'!$L$3:$L$408) -> 307605 | C14: =SUMIF('FY 27 Project Listing'!$B$3:$B$408,SummaryFY27!$A14,'FY 27 Project Listing'!$M$3:$M$408) -> 147720 | D14: =SUMIF('FY 27 Project Listing'!$B$3:$B$408,SummaryFY27!$A14,'FY 27 Project Listing'!$N$3:$N$408) -> 402088 | E14: =SUMIF('FY 27 Project Listing'!$B$3:$B$408,SummaryFY27!$A14,'FY 27 Project Listing'!$O$3:$O$408) -> 455294 | F14: =SUMIF('FY 27 Project Listing'!$B$3:$B$408,SummaryFY27!$A14,'FY 27 Project Listing'!$P$3:$P$408) -> 136225 | G14: =SUMIF('FY 27 Project Listing'!$B$3:$B$408,SummaryFY27!$A14,'FY 27 Project Listing'!$Q$3:$Q$408) -> 1278662 | H14: =SUMIF('FY 27 Project Listing'!$B$3:$B$408,SummaryFY27!$A14,'FY 27 Project Listing'!$R$3:$R$408) -> 0 | I14: =SUMIF('FY 27 Project Listing'!$B$3:$B$408,SummaryFY27!$A14,'FY 27 Project Listing'!$S$3:$S$408) -> 5355825 | J14: =COUNTIF('FY 27 Project Listing'!$B$3:$B$408,SummaryFY27!$A14) -> 55
A15: 46399 | B15: =SUMIF('FY 27 Project Listing'!$B$3:$B$408,SummaryFY27!$A15,'FY 27 Project Listing'!$L$3:$L$408) -> 485936 | C15: =SUMIF('FY 27 Project Listing'!$B$3:$B$408,SummaryFY27!$A15,'FY 27 Project Listing'!$M$3:$M$408) -> 20222 | D15: =SUMIF('FY 27 Project Listing'!$B$3:$B$408,SummaryFY27!$A15,'FY 27 Project Listing'!$N$3:$N$408) -> 225463 | E15: =SUMIF('FY 27 Project Listing'!$B$3:$B$408,SummaryFY27!$A15,'FY 27 Project Listing'!$O$3:$O$408) -> 352090 | F15: =SUMIF('FY 27 Project Listing'!$B$3:$B$408,SummaryFY27!$A15,'FY 27 Project Listing'!$P$3:$P$408) -> 39260 | G15: =SUMIF('FY 27 Project Listing'!$B$3:$B$408,SummaryFY27!$A15,'FY 27 Project Listing'!$Q$3:$Q$408) -> 1817852 | H15: =SUMIF('FY 27 Project Listing'!$B$3:$B$408,SummaryFY27!$A15,'FY 27 Project Listing'!$R$3:$R$408) -> 0 | I15: =SUMIF('FY 27 Project Listing'!$B$3:$B$408,SummaryFY27!$A15,'FY 27 Project Listing'!$S$3:$S$408) -> 11317846 | J15: =COUNTIF('FY 27 Project Listing'!$B$3:$B$408,SummaryFY27!$A15) -> 41
A16: 46427 | B16: =SUMIF('FY 27 Project Listing'!$B$3:$B$408,SummaryFY27!$A16,'FY 27 Project Listing'!$L$3:$L$408) -> 693221 | C16: =SUMIF('FY 27 Project Listing'!$B$3:$B$408,SummaryFY27!$A16,'FY 27 Project Listing'!$M$3:$M$408) -> 246761 | D16: =SUMIF('FY 27 Project Listing'!$B$3:$B$408,SummaryFY27!$A16,'FY 27 Project Listing'!$N$3:$N$408) -> 464452 | E16: =SUMIF('FY 27 Project Listing'!$B$3:$B$408,SummaryFY27!$A16,'FY 27 Project Listing'!$O$3:$O$408) -> 600479 | F16: =SUMIF('FY 27 Project Listing'!$B$3:$B$408,SummaryFY27!$A16,'FY 27 Project Listing'!$P$3:$P$408) -> 102921 | G16: =SUMIF('FY 27 Project Listing'!$B$3:$B$408,SummaryFY27!$A16,'FY 27 Project Listing'!$Q$3:$Q$408) -> 3447223 | H16: =SUMIF('FY 27 Project Listing'!$B$3:$B$408,SummaryFY27!$A16,'FY 27 Project Listing'!$R$3:$R$408) -> 47283 | I16: =SUMIF('FY 27 Project Listing'!$B$3:$B$408,SummaryFY27!$A16,'FY 27 Project Listing'!$S$3:$S$408) -> 10781258 | J16: =COUNTIF('FY 27 Project Listing'!$B$3:$B$408,SummaryFY27!$A16) -> 65
A17: 46455 | B17: =SUMIF('FY 27 Project Listing'!$B$3:$B$408,SummaryFY27!$A17,'FY 27 Project Listing'!$L$3:$L$408) -> 235660 | C17: =SUMIF('FY 27 Project Listing'!$B$3:$B$408,SummaryFY27!$A17,'FY 27 Project Listing'!$M$3:$M$408) -> 52609 | D17: =SUMIF('FY 27 Project Listing'!$B$3:$B$408,SummaryFY27!$A17,'FY 27 Project Listing'!$N$3:$N$408) -> 126799 | E17: =SUMIF('FY 27 Project Listing'!$B$3:$B$408,SummaryFY27!$A17,'FY 27 Project Listing'!$O$3:$O$408) -> 193668 | F17: =SUMIF('FY 27 Project Listing'!$B$3:$B$408,SummaryFY27!$A17,'FY 27 Project Listing'!$P$3:$P$408) -> 38817 | G17: =SUMIF('FY 27 Project Listing'!$B$3:$B$408,SummaryFY27!$A17,'FY 27 Project Listing'!$Q$3:$Q$408) -> 867935 | H17: =SUMIF('FY 27 Project Listing'!$B$3:$B$408,SummaryFY27!$A17,'FY 27 Project Listing'!$R$3:$R$408) -> 0 | I17: =SUMIF('FY 27 Project Listing'!$B$3:$B$408,SummaryFY27!$A17,'FY 27 Project Listing'!$S$3:$S$408) -> 1490835 | J17: =COUNTIF('FY 27 Project Listing'!$B$3:$B$408,SummaryFY27!$A17) -> 58
A18: 46490 | B18: =SUMIF('FY 27 Project Listing'!$B$3:$B$408,SummaryFY27!$A18,'FY 27 Project Listing'!$L$3:$L$408) -> 70601 | C18: =SUMIF('FY 27 Project Listing'!$B$3:$B$408,SummaryFY27!$A18,'FY 27 Project Listing'!$M$3:$M$408) -> 4566 | D18: =SUMIF('FY 27 Project Listing'!$B$3:$B$408,SummaryFY27!$A18,'FY 27 Project Listing'!$N$3:$N$408) -> 382915 | E18: =SUMIF('FY 27 Project Listing'!$B$3:$B$408,SummaryFY27!$A18,'FY 27 Project Listing'!$O$3:$O$408) -> 301914 | F18: =SUMIF('FY 27 Project Listing'!$B$3:$B$408,SummaryFY27!$A18,'FY 27 Project Listing'!$P$3:$P$408) -> 15808 | G18: =SUMIF('FY 27 Project Listing'!$B$3:$B$408,SummaryFY27!$A18,'FY 27 Project Listing'!$Q$3:$Q$408) -> 104568 | H18: =SUMIF('FY 27 Project Listing'!$B$3:$B$408,SummaryFY27!$A18,'FY 27 Project Listing'!$R$3:$R$408) -> 174000 | I18: =SUMIF('FY 27 Project Listing'!$B$3:$B$408,SummaryFY27!$A18,'FY 27 Project Listing'!$S$3:$S$408) -> 724573 | J18: =COUNTIF('FY 27 Project Listing'!$B$3:$B$408,SummaryFY27!$A18) -> 13
A19: 46518 | B19: =SUMIF('FY 27 Project Listing'!$B$3:$B$408,SummaryFY27!$A19,'FY 27 Project Listing'!$L$3:$L$408) -> 168889 | C19: =SUMIF('FY 27 Project Listing'!$B$3:$B$408,SummaryFY27!$A19,'FY 27 Project Listing'!$M$3:$M$408) -> 8991 | D19: =SUMIF('FY 27 Project Listing'!$B$3:$B$408,SummaryFY27!$A19,'FY 27 Project Listing'!$N$3:$N$408) -> 74011 | E19: =SUMIF('FY 27 Project Listing'!$B$3:$B$408,SummaryFY27!$A19,'FY 27 Project Listing'!$O$3:$O$408) -> 102005 | F19: =SUMIF('FY 27 Project Listing'!$B$3:$B$408,SummaryFY27!$A19,'FY 27 Project Listing'!$P$3:$P$408) -> 13065 | G19: =SUMIF('FY 27 Project Listing'!$B$3:$B$408,SummaryFY27!$A19,'FY 27 Project Listing'!$Q$3:$Q$408) -> 883229 | H19: =SUMIF('FY 27 Project Listing'!$B$3:$B$408,SummaryFY27!$A19,'FY 27 Project Listing'!$R$3:$R$408) -> 0 | I19: =SUMIF('FY 27 Project Listing'!$B$3:$B$408,SummaryFY27!$A19,'FY 27 Project Listing'!$S$3:$S$408) -> 1587553 | J19: =COUNTIF('FY 27 Project Listing'!$B$3:$B$408,SummaryFY27!$A19) -> 24
A20: 46546 | B20: =SUMIF('FY 27 Project Listing'!$B$3:$B$408,SummaryFY27!$A20,'FY 27 Project Listing'!$L$3:$L$408) -> 0 | C20: =SUMIF('FY 27 Project Listing'!$B$3:$B$408,SummaryFY27!$A20,'FY 27 Project Listing'!$M$3:$M$408) -> 0 | D20: =SUMIF('FY 27 Project Listing'!$B$3:$B$408,SummaryFY27!$A20,'FY 27 Project Listing'!$N$3:$N$408) -> 0 | E20: =SUMIF('FY 27 Project Listing'!$B$3:$B$408,SummaryFY27!$A20,'FY 27 Project Listing'!$O$3:$O$408) -> 0 | F20: =SUMIF('FY 27 Project Listing'!$B$3:$B$408,SummaryFY27!$A20,'FY 27 Project Listing'!$P$3:$P$408) -> 0 | G20: =SUMIF('FY 27 Project Listing'!$B$3:$B$408,SummaryFY27!$A20,'FY 27 Project Listing'!$Q$3:$Q$408) -> 0 | H20: =SUMIF('FY 27 Project Listing'!$B$3:$B$408,SummaryFY27!$A20,'FY 27 Project Listing'!$R$3:$R$408) -> 0 | I20: =SUMIF('FY 27 Project Listing'!$B$3:$B$408,SummaryFY27!$A20,'FY 27 Project Listing'!$S$3:$S$408) -> 0 | J20: =COUNTIF('FY 27 Project Listing'!$B$3:$B$408,SummaryFY27!$A20) -> 0
A21: TOTALS | B21: =SUM(B9:B20) -> 3770144 | C21: =SUM(C9:C20) -> 1991073 | D21: =SUM(D9:D20) -> 4701139 | E21: =SUM(E9:E20) -> 6648061 | F21: =SUM(F9:F20) -> 870142 | G21: =SUM(G9:G20) -> 15153876 | H21: =SUM(H9:H20) -> 335792 | I21: =SUM(I9:I20) -> 53555476 | J21: =SUM(J9:J20) -> 406
A23: REGION | B23: ASPHALT | C23: CONCRETE | D23: EXCAVATION | E23: BASE COURSE | F23: BRIDGE DECK | G23: MILLING | H23: GRINDING | I23: STRIPING | J23: PROJECTS
B24: (Tons) | C24: (Sq Yds) | D24: (Cu Yds) | E24: (Tons) | F24: (Sq Ft) | G24: (Sq Yds) | H24: (Sq Yds) | I24: (Lin Ft)
A25: Central Office | B25: =SUMIF('FY 27 Project Listing'!$C$3:$C$408,SummaryFY27!$A25,'FY 27 Project Listing'!$L$3:$L$408) -> 0 | C25: =SUMIF('FY 27 Project Listing'!$C$3:$C$408,SummaryFY27!$A25,'FY 27 Project Listing'!$M$3:$M$408) -> 0 | D25: =SUMIF('FY 27 Project Listing'!$C$3:$C$408,SummaryFY27!$A25,'FY 27 Project Listing'!$N$3:$N$408) -> 0 | E25: =SUMIF('FY 27 Project Listing'!$C$3:$C$408,SummaryFY27!$A25,'FY 27 Project Listing'!$O$3:$O$408) -> 0 | F25: =SUMIF('FY 27 Project Listing'!$C$3:$C$408,SummaryFY27!$A25,'FY 27 Project Listing'!$P$3:$P$408) -> 0 | G25: =SUMIF('FY 27 Project Listing'!$C$3:$C$408,SummaryFY27!$A25,'FY 27 Project Listing'!$Q$3:$Q$408) -> 0 | H25: =SUMIF('FY 27 Project Listing'!$C$3:$C$408,SummaryFY27!$A25,'FY 27 Project Listing'!$R$3:$R$408) -> 0 | I25: =SUMIF('FY 27 Project Listing'!$C$3:$C$408,SummaryFY27!$A25,'FY 27 Project Listing'!$S$3:$S$408) -> 0 | J25: =COUNTIF('FY 27 Project Listing'!$C$3:$C$408,SummaryFY27!$A25) -> 0
A26: South West | B26: =SUMIF('FY 27 Project Listing'!$C$3:$C$408,SummaryFY27!$A26,'FY 27 Project Listing'!$L$3:$L$408) -> 925212 | C26: =SUMIF('FY 27 Project Listing'!$C$3:$C$408,SummaryFY27!$A26,'FY 27 Project Listing'!$M$3:$M$408) -> 153526 | D26: =SUMIF('FY 27 Project Listing'!$C$3:$C$408,SummaryFY27!$A26,'FY 27 Project Listing'!$N$3:$N$408) -> 1103782 | E26: =SUMIF('FY 27 Project Listing'!$C$3:$C$408,SummaryFY27!$A26,'FY 27 Project Listing'!$O$3:$O$408) -> 1342739 | F26: =SUMIF('FY 27 Project Listing'!$C$3:$C$408,SummaryFY27!$A26,'FY 27 Project Listing'!$P$3:$P$408) -> 201073 | G26: =SUMIF('FY 27 Project Listing'!$C$3:$C$408,SummaryFY27!$A26,'FY 27 Project Listing'!$Q$3:$Q$408) -> 3219789 | H26: =SUMIF('FY 27 Project Listing'!$C$3:$C$408,SummaryFY27!$A26,'FY 27 Project Listing'!$R$3:$R$408) -> 174000 | I26: =SUMIF('FY 27 Project Listing'!$C$3:$C$408,SummaryFY27!$A26,'FY 27 Project Listing'!$S$3:$S$408) -> 10618726 | J26: =COUNTIF('FY 27 Project Listing'!$C$3:$C$408,SummaryFY27!$A26) -> 123
A27: South East | B27: =SUMIF('FY 27 Project Listing'!$C$3:$C$408,SummaryFY27!$A27,'FY 27 Project Listing'!$L$3:$L$408) -> 486374 | C27: =SUMIF('FY 27 Project Listing'!$C$3:$C$408,SummaryFY27!$A27,'FY 27 Project Listing'!$M$3:$M$408) -> 621945 | D27: =SUMIF('FY 27 Project Listing'!$C$3:$C$408,SummaryFY27!$A27,'FY 27 Project Listing'!$N$3:$N$408) -> 963756 | E27: =SUMIF('FY 27 Project Listing'!$C$3:$C$408,SummaryFY27!$A27,'FY 27 Project Listing'!$O$3:$O$408) -> 1492761 | F27: =SUMIF('FY 27 Project Listing'!$C$3:$C$408,SummaryFY27!$A27,'FY 27 Project Listing'!$P$3:$P$408) -> 148507 | G27: =SUMIF('FY 27 Project Listing'!$C$3:$C$408,SummaryFY27!$A27,'FY 27 Project Listing'!$Q$3:$Q$408) -> 2060439 | H27: =SUMIF('FY 27 Project Listing'!$C$3:$C$408,SummaryFY27!$A27,'FY 27 Project Listing'!$R$3:$R$408) -> 0 | I27: =SUMIF('FY 27 Project Listing'!$C$3:$C$408,SummaryFY27!$A27,'FY 27 Project Listing'!$S$3:$S$408) -> 6138622 | J27: =COUNTIF('FY 27 Project Listing'!$C$3:$C$408,SummaryFY27!$A27) -> 58
A28: North East | B28: =SUMIF('FY 27 Project Listing'!$C$3:$C$408,SummaryFY27!$A28,'FY 27 Project Listing'!$L$3:$L$408) -> 765291 | C28: =SUMIF('FY 27 Project Listing'!$C$3:$C$408,SummaryFY27!$A28,'FY 27 Project Listing'!$M$3:$M$408) -> 928803 | D28: =SUMIF('FY 27 Project Listing'!$C$3:$C$408,SummaryFY27!$A28,'FY 27 Project Listing'!$N$3:$N$408) -> 1756960 | E28: =SUMIF('FY 27 Project Listing'!$C$3:$C$408,SummaryFY27!$A28,'FY 27 Project Listing'!$O$3:$O$408) -> 2781055 | F28: =SUMIF('FY 27 Project Listing'!$C$3:$C$408,SummaryFY27!$A28,'FY 27 Project Listing'!$P$3:$P$408) -> 240483 | G28: =SUMIF('FY 27 Project Listing'!$C$3:$C$408,SummaryFY27!$A28,'FY 27 Project Listing'!$Q$3:$Q$408) -> 2670385 | H28: =SUMIF('FY 27 Project Listing'!$C$3:$C$408,SummaryFY27!$A28,'FY 27 Project Listing'!$R$3:$R$408) -> 100300 | I28: =SUMIF('FY 27 Project Listing'!$C$3:$C$408,SummaryFY27!$A28,'FY 27 Project Listing'!$S$3:$S$408) -> 11769592 | J28: =COUNTIF('FY 27 Project Listing'!$C$3:$C$408,SummaryFY27!$A28) -> 58
A29: North Central | B29: =SUMIF('FY 27 Project Listing'!$C$3:$C$408,SummaryFY27!$A29,'FY 27 Project Listing'!$L$3:$L$408) -> 872090 | C29: =SUMIF('FY 27 Project Listing'!$C$3:$C$408,SummaryFY27!$A29,'FY 27 Project Listing'!$M$3:$M$408) -> 161020 | D29: =SUMIF('FY 27 Project Listing'!$C$3:$C$408,SummaryFY27!$A29,'FY 27 Project Listing'!$N$3:$N$408) -> 510737 | E29: =SUMIF('FY 27 Project Listing'!$C$3:$C$408,SummaryFY27!$A29,'FY 27 Project Listing'!$O$3:$O$408) -> 698151 | F29: =SUMIF('FY 27 Project Listing'!$C$3:$C$408,SummaryFY27!$A29,'FY 27 Project Listing'!$P$3:$P$408) -> 85656 | G29: =SUMIF('FY 27 Project Listing'!$C$3:$C$408,SummaryFY27!$A29,'FY 27 Project Listing'!$Q$3:$Q$408) -> 4243318 | H29: =SUMIF('FY 27 Project Listing'!$C$3:$C$408,SummaryFY27!$A29,'FY 27 Project Listing'!$R$3:$R$408) -> 49516 | I29: =SUMIF('FY 27 Project Listing'!$C$3:$C$408,SummaryFY27!$A29,'FY 27 Project Listing'!$S$3:$S$408) -> 16207038 | J29: =COUNTIF('FY 27 Project Listing'!$C$3:$C$408,SummaryFY27!$A29) -> 80
A30: North West | B30: =SUMIF('FY 27 Project Listing'!$C$3:$C$408,SummaryFY27!$A30,'FY 27 Project Listing'!$L$3:$L$408) -> 721177 | C30: =SUMIF('FY 27 Project Listing'!$C$3:$C$408,SummaryFY27!$A30,'FY 27 Project Listing'!$M$3:$M$408) -> 125779 | D30: =SUMIF('FY 27 Project Listing'!$C$3:$C$408,SummaryFY27!$A30,'FY 27 Project Listing'!$N$3:$N$408) -> 365904 | E30: =SUMIF('FY 27 Project Listing'!$C$3:$C$408,SummaryFY27!$A30,'FY 27 Project Listing'!$O$3:$O$408) -> 333355 | F30: =SUMIF('FY 27 Project Listing'!$C$3:$C$408,SummaryFY27!$A30,'FY 27 Project Listing'!$P$3:$P$408) -> 194423 | G30: =SUMIF('FY 27 Project Listing'!$C$3:$C$408,SummaryFY27!$A30,'FY 27 Project Listing'!$Q$3:$Q$408) -> 2959945 | H30: =SUMIF('FY 27 Project Listing'!$C$3:$C$408,SummaryFY27!$A30,'FY 27 Project Listing'!$R$3:$R$408) -> 11976 | I30: =SUMIF('FY 27 Project Listing'!$C$3:$C$408,SummaryFY27!$A30,'FY 27 Project Listing'!$S$3:$S$408) -> 8821498 | J30: =COUNTIF('FY 27 Project Listing'!$C$3:$C$408,SummaryFY27!$A30) -> 87
A31: TOTALS | B31: =SUM(B25:B30) -> 3770144 | C31: =SUM(C25:C30) -> 1991073 | D31: =SUM(D25:D30) -> 4701139 | E31: =SUM(E25:E30) -> 6648061 | F31: =SUM(F25:F30) -> 870142 | G31: =SUM(G25:G30) -> 15153876 | H31: =SUM(H25:H30) -> 335792 | I31: =SUM(I25:I30) -> 53555476 | J31: =SUM(J25:J30) -> 406
A33: PROGRAM | B33: ASPHALT | C33: CONCRETE | D33: EXCAVATION | E33: BASE COURSE | F33: BRIDGE DECK | G33: MILLING | H33: GRINDING | I33: STRIPING | J33: PROJECTS
B34: (Tons) | C34: (Sq Yds) | D34: (Cu Yds) | E34: (Tons) | F34: (Sq Ft) | G34: (Sq Yds) | H34: (Sq Yds) | I34: (Lin Ft)
A35: Majors | B35: =SUMIF('FY 27 Project Listing'!$K$3:$K$408,SummaryFY27!$A35,'FY 27 Project Listing'!$L$3:$L$408) -> 139534 | C35: =SUMIF('FY 27 Project Listing'!$K$3:$K$408,SummaryFY27!$A35,'FY 27 Project Listing'!$M$3:$M$408) -> 828910 | D35: =SUMIF('FY 27 Project Listing'!$K$3:$K$408,SummaryFY27!$A35,'FY 27 Project Listing'!$N$3:$N$408) -> 1633667 | E35: =SUMIF('FY 27 Project Listing'!$K$3:$K$408,SummaryFY27!$A35,'FY 27 Project Listing'!$O$3:$O$408) -> 2568255 | F35: =SUMIF('FY 27 Project Listing'!$K$3:$K$408,SummaryFY27!$A35,'FY 27 Project Listing'!$P$3:$P$408) -> 205095 | G35: =SUMIF('FY 27 Project Listing'!$K$3:$K$408,SummaryFY27!$A35,'FY 27 Project Listing'!$Q$3:$Q$408) -> 24611 | H35: =SUMIF('FY 27 Project Listing'!$K$3:$K$408,SummaryFY27!$A35,'FY 27 Project Listing'!$R$3:$R$408) -> 0 | I35: =SUMIF('FY 27 Project Listing'!$K$3:$K$408,SummaryFY27!$A35,'FY 27 Project Listing'!$S$3:$S$408) -> 1306801 | J35: =COUNTIF('FY 27 Project Listing'!$K$3:$K$408,SummaryFY27!$A35) -> 16
A36: SHR | B36: =SUMIF('FY 27 Project Listing'!$K$3:$K$408,SummaryFY27!$A36,'FY 27 Project Listing'!$L$3:$L$408) -> 3315679 | C36: =SUMIF('FY 27 Project Listing'!$K$3:$K$408,SummaryFY27!$A36,'FY 27 Project Listing'!$M$3:$M$408) -> 962392 | D36: =SUMIF('FY 27 Project Listing'!$K$3:$K$408,SummaryFY27!$A36,'FY 27 Project Listing'!$N$3:$N$408) -> 2415941 | E36: =SUMIF('FY 27 Project Listing'!$K$3:$K$408,SummaryFY27!$A36,'FY 27 Project Listing'!$O$3:$O$408) -> 3248123 | F36: =SUMIF('FY 27 Project Listing'!$K$3:$K$408,SummaryFY27!$A36,'FY 27 Project Listing'!$P$3:$P$408) -> 429402 | G36: =SUMIF('FY 27 Project Listing'!$K$3:$K$408,SummaryFY27!$A36,'FY 27 Project Listing'!$Q$3:$Q$408) -> 14523920 | H36: =SUMIF('FY 27 Project Listing'!$K$3:$K$408,SummaryFY27!$A36,'FY 27 Project Listing'!$R$3:$R$408) -> 335792 | I36: =SUMIF('FY 27 Project Listing'!$K$3:$K$408,SummaryFY27!$A36,'FY 27 Project Listing'!$S$3:$S$408) -> 26576049 | J36: =COUNTIF('FY 27 Project Listing'!$K$3:$K$408,SummaryFY27!$A36) -> 214
A37: Mega Projects | B37: =SUMIF('FY 27 Project Listing'!$K$3:$K$408,SummaryFY27!$A37,'FY 27 Project Listing'!$L$3:$L$408) -> 0 | C37: =SUMIF('FY 27 Project Listing'!$K$3:$K$408,SummaryFY27!$A37,'FY 27 Project Listing'!$M$3:$M$408) -> 0 | D37: =SUMIF('FY 27 Project Listing'!$K$3:$K$408,SummaryFY27!$A37,'FY 27 Project Listing'!$N$3:$N$408) -> 27000 | E37: =SUMIF('FY 27 Project Listing'!$K$3:$K$408,SummaryFY27!$A37,'FY 27 Project Listing'!$O$3:$O$408) -> 1600 | F37: =SUMIF('FY 27 Project Listing'!$K$3:$K$408,SummaryFY27!$A37,'FY 27 Project Listing'!$P$3:$P$408) -> 0 | G37: =SUMIF('FY 27 Project Listing'!$K$3:$K$408,SummaryFY27!$A37,'FY 27 Project Listing'!$Q$3:$Q$408) -> 0 | H37: =SUMIF('FY 27 Project Listing'!$K$3:$K$408,SummaryFY27!$A37,'FY 27 Project Listing'!$R$3:$R$408) -> 0 | I37: =SUMIF('FY 27 Project Listing'!$K$3:$K$408,SummaryFY27!$A37,'FY 27 Project Listing'!$S$3:$S$408) -> 0 | J37: =COUNTIF('FY 27 Project Listing'!$K$3:$K$408,SummaryFY27!$A37) -> 1
A38: Local | B38: =SUMIF('FY 27 Project Listing'!$K$3:$K$408,SummaryFY27!$A38,'FY 27 Project Listing'!$L$3:$L$408) -> 314907 | C38: =SUMIF('FY 27 Project Listing'!$K$3:$K$408,SummaryFY27!$A38,'FY 27 Project Listing'!$M$3:$M$408) -> 199771 | D38: =SUMIF('FY 27 Project Listing'!$K$3:$K$408,SummaryFY27!$A38,'FY 27 Project Listing'!$N$3:$N$408) -> 624531 | E38: =SUMIF('FY 27 Project Listing'!$K$3:$K$408,SummaryFY27!$A38,'FY 27 Project Listing'!$O$3:$O$408) -> 830083 | F38: =SUMIF('FY 27 Project Listing'!$K$3:$K$408,SummaryFY27!$A38,'FY 27 Project Listing'!$P$3:$P$408) -> 235220 | G38: =SUMIF('FY 27 Project Listing'!$K$3:$K$408,SummaryFY27!$A38,'FY 27 Project Listing'!$Q$3:$Q$408) -> 605174 | H38: =SUMIF('FY 27 Project Listing'!$K$3:$K$408,SummaryFY27!$A38,'FY 27 Project Listing'!$R$3:$R$408) -> 0 | I38: =SUMIF('FY 27 Project Listing'!$K$3:$K$408,SummaryFY27!$A38,'FY 27 Project Listing'!$S$3:$S$408) -> 1644963 | J38: =COUNTIF('FY 27 Project Listing'!$K$3:$K$408,SummaryFY27!$A38) -> 168
A39: HC Bridges | B39: =SUMIF('FY 27 Project Listing'!$K$3:$K$408,SummaryFY27!$A39,'FY 27 Project Listing'!$L$3:$L$408) -> 0 | C39: =SUMIF('FY 27 Project Listing'!$K$3:$K$408,SummaryFY27!$A39,'FY 27 Project Listing'!$M$3:$M$408) -> 0 | D39: =SUMIF('FY 27 Project Listing'!$K$3:$K$408,SummaryFY27!$A39,'FY 27 Project Listing'!$N$3:$N$408) -> 0 | E39: =SUMIF('FY 27 Project Listing'!$K$3:$K$408,SummaryFY27!$A39,'FY 27 Project Listing'!$O$3:$O$408) -> 0 | F39: =SUMIF('FY 27 Project Listing'!$K$3:$K$408,SummaryFY27!$A39,'FY 27 Project Listing'!$P$3:$P$408) -> 0 | G39: =SUMIF('FY 27 Project Listing'!$K$3:$K$408,SummaryFY27!$A39,'FY 27 Project Listing'!$Q$3:$Q$408) -> 0 | H39: =SUMIF('FY 27 Project Listing'!$K$3:$K$408,SummaryFY27!$A39,'FY 27 Project Listing'!$R$3:$R$408) -> 0 | I39: =SUMIF('FY 27 Project Listing'!$K$3:$K$408,SummaryFY27!$A39,'FY 27 Project Listing'!$S$3:$S$408) -> 0 | J39: =COUNTIF('FY 27 Project Listing'!$K$3:$K$408,SummaryFY27!$A39) -> 0
A40: Misc | B40: =SUMIF('FY 27 Project Listing'!$K$3:$K$408,SummaryFY27!$A40,'FY 27 Project Listing'!$L$3:$L$408) -> 24 | C40: =SUMIF('FY 27 Project Listing'!$K$3:$K$408,SummaryFY27!$A40,'FY 27 Project Listing'!$M$3:$M$408) -> 0 | D40: =SUMIF('FY 27 Project Listing'!$K$3:$K$408,SummaryFY27!$A40,'FY 27 Project Listing'!$N$3:$N$408) -> 0 | E40: =SUMIF('FY 27 Project Listing'!$K$3:$K$408,SummaryFY27!$A40,'FY 27 Project Listing'!$O$3:$O$408) -> 0 | F40: =SUMIF('FY 27 Project Listing'!$K$3:$K$408,SummaryFY27!$A40,'FY 27 Project Listing'!$P$3:$P$408) -> 425 | G40: =SUMIF('FY 27 Project Listing'!$K$3:$K$408,SummaryFY27!$A40,'FY 27 Project Listing'!$Q$3:$Q$408) -> 171 | H40: =SUMIF('FY 27 Project Listing'!$K$3:$K$408,SummaryFY27!$A40,'FY 27 Project Listing'!$R$3:$R$408) -> 0 | I40: =SUMIF('FY 27 Project Listing'!$K$3:$K$408,SummaryFY27!$A40,'FY 27 Project Listing'!$S$3:$S$408) -> 24027663 | J40: =COUNTIF('FY 27 Project Listing'!$K$3:$K$408,SummaryFY27!$A40) -> 7
A41: TOTALS | B41: =SUM(B35:B40) -> 3770144 | C41: =SUM(C35:C40) -> 1991073 | D41: =SUM(D35:D40) -> 4701139 | E41: =SUM(E35:E40) -> 6648061 | F41: =SUM(F35:F40) -> 870142 | G41: =SUM(G35:G40) -> 15153876 | H41: =SUM(H35:H40) -> 335792 | I41: =SUM(I35:I40) -> 53555476 | J41: =SUM(J35:J40) -> 406
A43: DESIGN-BUILD CONTRACT DATE* | B43: ASPHALT | C43: CONCRETE | D43: EXCAVATION | E43: BASE COURSE | F43: BRIDGE DECK | G43: MILLING | H43: GRINDING | I43: STRIPING | J43: PROJECTS
A45: 46228 | B45: =SUMIF('FY 27 Project Listing'!$B$3:$B$9965,SummaryFY27!$A45,'FY 27 Project Listing'!L$3:L$9965) -> 53000 | C45: =SUMIF('FY 27 Project Listing'!$B$3:$B$9965,SummaryFY27!$A45,'FY 27 Project Listing'!M$3:M$9965) -> 122500 | D45: =SUMIF('FY 27 Project Listing'!$B$3:$B$9965,SummaryFY27!$A45,'FY 27 Project Listing'!N$3:N$9965) -> 270000 | E45: =SUMIF('FY 27 Project Listing'!$B$3:$B$9965,SummaryFY27!$A45,'FY 27 Project Listing'!O$3:O$9965) -> 428000 | F45: =SUMIF('FY 27 Project Listing'!$B$3:$B$9965,SummaryFY27!$A45,'FY 27 Project Listing'!P$3:P$9965) -> 71500 | G45: =SUMIF('FY 27 Project Listing'!$B$3:$B$9965,SummaryFY27!$A45,'FY 27 Project Listing'!Q$3:Q$9965) -> 187000 | H45: =SUMIF('FY 27 Project Listing'!$B$3:$B$9965,SummaryFY27!$A45,'FY 27 Project Listing'!R$3:R$9965) -> 0 | I45: =SUMIF('FY 27 Project Listing'!$B$3:$B$9965,SummaryFY27!$A45,'FY 27 Project Listing'!S$3:S$9965) -> 550000 | J45: =COUNTIF('FY 27 Project Listing'!$B$3:$B$9965,SummaryFY27!$A45) -> 1
A46: TOTALS | B46: =SUM(B45:B45) -> 53000 | C46: =SUM(C45:C45) -> 122500 | D46: =SUM(D45:D45) -> 270000 | E46: =SUM(E45:E45) -> 428000 | F46: =SUM(F45:F45) -> 71500 | G46: =SUM(G45:G45) -> 187000 | H46: =SUM(H45:H45) -> 0 | I46: =SUM(I45:I45) -> 550000 | J46: =SUM(J45:J45) -> 1
A48: *Design/Build projects are not included in the totals above | I48: October 6, 2026 Snapshot

Sheet FY 27 Project Listing
A1: MONTH | B1: DATE | C1: MANUAL TYPE | D1: LET_DATE | E1: Proj Id | F1: Region | G1: Route Type | H1: Route Number | I1: Project Title | J1: Concept Code | K1: Program | L1: Asphalt (Tons) | M1: Concrete (Sq Yds) | N1: Excavation (Cubic Yds) | O1: Base Course (Tons) | P1: Bridge Deck (Sq Ft) | Q1: Milling (Sq Yds) | R1: Grinding (Sq Yds) | S1: Striping (Linear Ft)
L2: =SUM(L3:L408) -> 3770144 | M2: =SUM(M3:M408) -> 1991073 | N2: =SUM(N3:N408) -> 4701139 | O2: =SUM(O3:O408) -> 6648061 | P2: =SUM(P3:P408) -> 870142 | Q2: =SUM(Q3:Q408) -> 15153876 | R2: =SUM(R3:R408) -> 335792 | S2: =SUM(S3:S408) -> 53555476
A3: =LEFT(B3,FIND(" ",B3)-1) -> July | B3: =IF(D3="",B2,D3) -> July 14, 2026 | C3: {=_xlfn.IFS(F3="CO","Central Office",F3="NC","North Central",F3="NE","North East",F3="NW","North West",F3="SE","South East",F3="SW","South West")} -> North East | D3: July 14, 2026 | E3: 1130-65-71 | F3: NE | G3: IH | H3: 041 | I3: APPLETON - DE PERE | J3: RECSTE | K3: MAJORS | L3: 8625 | M3: 101110 | N3: 159400 | O3: 227628 | P3: 0 | Q3: 0 | R3: 0 | S3: 65742
A4: =LEFT(B4,FIND(" ",B4)-1) -> July | B4: =IF(D4="",B3,D4) -> July 14, 2026 | C4: {=_xlfn.IFS(F4="CO","Central Office",F4="NC","North Central",F4="NE","North East",F4="NW","North West",F4="SE","South East",F4="SW","South West")} -> North East | E4: 1130-65-72 | F4: NE | G4: IH | H4: 041 | I4: APPLETON - DE PERE | J4: RECSTE | K4: MAJORS | L4: 13043 | M4: 124007 | N4: 232936 | O4: 357296 | P4: 0 | Q4: 0 | R4: 0 | S4: 70152
A5: =LEFT(B5,FIND(" ",B5)-1) -> July | B5: =IF(D5="",B4,D5) -> July 14, 2026 | C5: {=_xlfn.IFS(F5="CO","Central Office",F5="NC","North Central",F5="NE","North East",F5="NW","North West",F5="SE","South East",F5="SW","South West")} -> North East | E5: 1130-65-73 | F5: NE | G5: IH | H5: 041 | I5: APPLETON - DE PERE | J5: RECSTE | K5: MAJORS | L5: 11211 | M5: 47810 | N5: 61666 | O5: 182443 | P5: 0 | Q5: 0 | R5: 0 | S5: 24776
A6: =LEFT(B6,FIND(" ",B6)-1) -> July | B6: =IF(D6="",B5,D6) -> July 14, 2026 | C6: {=_xlfn.IFS(F6="CO","Central Office",F6="NC","North Central",F6="NE","North East",F6="NW","North West",F6="SE","South East",F6="SW","South West")} -> North East | E6: 1130-65-74 | F6: NE | G6: STH | H6: 441 | I6: APPLETON - DE PERE | J6: RECSTE | K6: MAJORS | L6: 7175 | M6: 45234 | N6: 179386 | O6: 138141 | P6: 11580 | Q6: 0 | R6: 0 | S6: 30518
A7: =LEFT(B7,FIND(" ",B7)-1) -> July | B7: =IF(D7="",B6,D7) -> July 14, 2026 | C7: {=_xlfn.IFS(F7="CO","Central Office",F7="NC","North Central",F7="NE","North East",F7="NW","North West",F7="SE","South East",F7="SW","South West")} -> North East | E7: 1130-65-78 | F7: NE | G7: STH | H7: 441 | I7: APPLETON - DE PERE | J7: RECSTE | K7: MAJORS | L7: 1332 | M7: 21707 | N7: 88823 | O7: 76664 | P7: 140661 | Q7: 0 | R7: 0 | S7: 24128
A8: =LEFT(B8,FIND(" ",B8)-1) -> July | B8: =IF(D8="",B7,D8) -> July 14, 2026 | C8: {=_xlfn.IFS(F8="CO","Central Office",F8="NC","North Central",F8="NE","North East",F8="NW","North West",F8="SE","South East",F8="SW","South West")} -> North Central | E8: 1166-04-85 | F8: NC | G8: IH | H8: 039 | I8: PORTAGE - COLOMA | J8: RSRF30 | K8: SHR | L8: 75100 | M8: 4400 | N8: 6100 | O8: 14000 | P8: 0 | Q8: 280000 | R8: 8300 | S8: 623000
A9: =LEFT(B9,FIND(" ",B9)-1) -> July | B9: =IF(D9="",B8,D9) -> July 14, 2026 | C9: {=_xlfn.IFS(F9="CO","Central Office",F9="NC","North Central",F9="NE","North East",F9="NW","North West",F9="SE","South East",F9="SW","South West")} -> South West | E9: 1670-01-78 | F9: SW | G9: USH | H9: 012 | I9: BARABOO - SAUK CITY | J9: MISC | K9: SHR | L9: 715 | M9: 0 | N9: 1100 | O9: 1870 | P9: 0 | Q9: 385 | R9: 0 | S9: 3760
A10: =LEFT(B10,FIND(" ",B10)-1) -> July | B10: =IF(D10="",B9,D10) -> July 14, 2026 | C10: {=_xlfn.IFS(F10="CO","Central Office",F10="NC","North Central",F10="NE","North East",F10="NW","North West",F10="SE","South East",F10="SW","South West")} -> South East | E10: 2030-10-71 | F10: SE | G10: STH | H10: 100 | I10: N MAYFAIR RD/N LOVERS LN | J10: BRRPL | K10: SHR | L10: 29000 | M10: 25400 | N10: 19600 | O10: 16500 | P10: 26900 | Q10: 126500 | R10: 0 | S10: 97000
A11: =LEFT(B11,FIND(" ",B11)-1) -> July | B11: =IF(D11="",B10,D11) -> July 14, 2026 | C11: {=_xlfn.IFS(F11="CO","Central Office",F11="NC","North Central",F11="NE","North East",F11="NW","North West",F11="SE","South East",F11="SW","South West")} -> South West | E11: 5845-16-76 | F11: SW | G11: USH | H11: 051 | I11: STOUGHTON - MADISON | J11: RECST | K11: MAJORS | L11: 4060 | M11: 41000 | N11: 66878 | O11: 92725 | P11: 6516 | Q11: 0 | R11: 0 | S11: 112615
A12: =LEFT(B12,FIND(" ",B12)-1) -> July | B12: =IF(D12="",B11,D12) -> July 14, 2026 | C12: {=_xlfn.IFS(F12="CO","Central Office",F12="NC","North Central",F12="NE","North East",F12="NW","North West",F12="SE","South East",F12="SW","South West")} -> South West | E12: 5845-16-78 | F12: SW | G12: USH | H12: 051 | I12: STOUGHTON - MADISON | J12: RECST | K12: MAJORS | L12: 0 | M12: 0 | N12: 0 | O12: 0 | P12: 0 | Q12: 0 | R12: 0 | S12: 0
A13: =LEFT(B13,FIND(" ",B13)-1) -> July | B13: =IF(D13="",B12,D13) -> July 14, 2026 | C13: {=_xlfn.IFS(F13="CO","Central Office",F13="NC","North Central",F13="NE","North East",F13="NW","North West",F13="SE","South East",F13="SW","South West")} -> South West | E13: 5845-16-87 | F13: SW | G13: USH | H13: 051 | I13: STOUGHTON - MADISON | J13: RECST | K13: MAJORS | L13: 0 | M13: 0 | N13: 0 | O13: 0 | P13: 0 | Q13: 0 | R13: 0 | S13: 0
A14: =LEFT(B14,FIND(" ",B14)-1) -> July | B14: =IF(D14="",B13,D14) -> July 14, 2026 | C14: {=_xlfn.IFS(F14="CO","Central Office",F14="NC","North Central",F14="NE","North East",F14="NW","North West",F14="SE","South East",F14="SW","South West")} -> South West | E14: 5845-16-89 | F14: SW | G14: USH | H14: 051 | I14: STOUGHTON - MADISON | J14: RECST | K14: MAJORS | L14: 0 | M14: 0 | N14: 0 | O14: 0 | P14: 0 | Q14: 0 | R14: 0 | S14: 0
A15: =LEFT(B15,FIND(" ",B15)-1) -> July | B15: =IF(D15="",B14,D15) -> July 14, 2026 | C15: {=_xlfn.IFS(F15="CO","Central Office",F15="NC","North Central",F15="NE","North East",F15="NW","North West",F15="SE","South East",F15="SW","South West")} -> South West | E15: 5845-16-90 | F15: SW | G15: USH | H15: 051 | I15: STOUGHTON - MADISON | J15: RECST | K15: MAJORS | L15: 0 | M15: 0 | N15: 0 | O15: 0 | P15: 0 | Q15: 0 | R15: 0 | S15: 0
... A18: =LEFT(B18,FIND(" ",B18)-1) -> July | B18: =IF(D18="",B17,D18) -> July 14, 2026 | C18: {=_xlfn.IFS(F18="CO","Central Office",F18="NC","North Central",F18="NE","North East",F18="NW","North West",F18="SE","South East",F18="SW","South West")} -> North Central | E18: 9030-07-72 | F18: NC | G18: STH | H18: 017 | I18: MERRILL - RHINELANDER | J18: PVRPLA | K18: SHR | L18: 61995 | M18: 0 | N18: 62673 | O18: 119050 | P18: 0 | Q18: 63210 | R18: 0 | S18: 171345
A19: =LEFT(B19,FIND(" ",B19)-1) -> August | B19: =IF(D19="",B18,D19) -> August 11, 2026 | C19: {=_xlfn.IFS(F19="CO","Central Office",F19="NC","North Central",F19="NE","North East",F19="NW","North West",F19="SE","South East",F19="SW","South West")} -> North Central | D19: August 11, 2026 | E19: 1053-07-85 | F19: NC | G19: STH | H19: 029 | I19: ABBOTSFORD - WAUSAU | J19: PVRPLA | K19: SHR | L19: 3970 | M19: 37810 | N19: 71406 | O19: 98749 | P19: 0 | Q19: 0 | R19: 0 | S19: 132898
A20: =LEFT(B20,FIND(" ",B20)-1) -> August | B20: =IF(D20="",B19,D20) -> August 11, 2026 | C20: {=_xlfn.IFS(F20="CO","Central Office",F20="NC","North Central",F20="NE","North East",F20="NW","North West",F20="SE","South East",F20="SW","South West")} -> South East | E20: 1090-09-75 | F20: SE | G20: IH | H20: 043 | I20: IH 43 ROCK FREEWAY | J20: PVRPLA | K20: SHR | L20: 38994 | M20: 192167 | N20: 225456 | O20: 463984 | P20: 37300 | Q20: 323584 | R20: 0 | S20: 716045
A21: =LEFT(B21,FIND(" ",B21)-1) -> August | B21: =IF(D21="",B20,D21) -> August 11, 2026 | C21: {=_xlfn.IFS(F21="CO","Central Office",F21="NC","North Central",F21="NE","North East",F21="NW","North West",F21="SE","South East",F21="SW","South West")} -> South East | E21: 1090-09-77 | F21: SE | G21: IH | H21: 043 | I21: IH 43 ROCK FREEWAY | J21: PVRPLA | K21: SHR | L21: 61062 | M21: 188222 | N21: 276142 | O21: 455604 | P21: 24500 | Q21: 318462 | R21: 0 | S21: 564511
A22: =LEFT(B22,FIND(" ",B22)-1) -> August | B22: =IF(D22="",B21,D22) -> August 11, 2026 | C22: {=_xlfn.IFS(F22="CO","Central Office",F22="NC","North Central",F22="NE","North East",F22="NW","North West",F22="SE","South East",F22="SW","South West")} -> North East | E22: 1130-74-71 | F22: NE | G22: IH | H22: 041 | I22: GREEN BAY, IH 41 | J22: MISC | K22: SHR | L22: 1100 | M22: 30135 | N22: 13682 | O22: 12540 | P22: 17393 | Q22: 0 | R22: 0 | S22: 128240
A23: =LEFT(B23,FIND(" ",B23)-1) -> August | B23: =IF(D23="",B22,D23) -> August 11, 2026 | C23: {=_xlfn.IFS(F23="CO","Central Office",F23="NC","North Central",F23="NE","North East",F23="NW","North West",F23="SE","South East",F23="SW","South West")} -> North East | E23: 1227-08-73 | F23: NE | G23: IH | H23: 043 | I23: MANITOWOC - GREEN BAY | J23: RSRF30 | K23: SHR | L23: 107600 | M23: 8900 | N23: 15900 | O23: 16700 | P23: 0 | Q23: 406000 | R23: 18800 | S23: 604600
A24: =LEFT(B24,FIND(" ",B24)-1) -> August | B24: =IF(D24="",B23,D24) -> August 11, 2026 | C24: {=_xlfn.IFS(F24="CO","Central Office",F24="NC","North Central",F24="NE","North East",F24="NW","North West",F24="SE","South East",F24="SW","South West")} -> North Central | E24: 1510-02-60 | F24: NC | G24: USH | H24: 010 | I24: WAUPACA - APPLETON | J24: PSRS30 | K24: SHR | L24: 14000 | M24: 34643 | N24: 11210 | O24: 19510 | P24: 5453 | Q24: 23310 | R24: 14830 | S24: 190334
A25: =LEFT(B25,FIND(" ",B25)-1) -> August | B25: =IF(D25="",B24,D25) -> August 11, 2026 | C25: {=_xlfn.IFS(F25="CO","Central Office",F25="NC","North Central",F25="NE","North East",F25="NW","North West",F25="SE","South East",F25="SW","South West")} -> North East | E25: 4478-02-70 | F25: NE | G25: LOC | H25: STR | I25: T STOCKBRIDGE, LAKESHORE DRIVE | J25: BRRPL | K25: LOCAL | L25: 60 | M25: 0 | N25: 250 | O25: 280 | P25: 1097 | Q25: 0 | R25: 0 | S25: 0
A26: =LEFT(B26,FIND(" ",B26)-1) -> August | B26: =IF(D26="",B25,D26) -> August 11, 2026 | C26: {=_xlfn.IFS(F26="CO","Central Office",F26="NC","North Central",F26="NE","North East",F26="NW","North West",F26="SE","South East",F26="SW","South West")} -> South West | E26: 5090-00-70 | F26: SW | G26: CTH | H26: X | I26: STH 33 - CTH W (CTH X) | J26: BRRPL | K26: LOCAL | L26: 296 | M26: 0 | N26: 1260 | O26: 3010 | P26: 0 | Q26: 300 | R26: 0 | S26: 1560
A27: =LEFT(B27,FIND(" ",B27)-1) -> August | B27: =IF(D27="",B26,D27) -> August 11, 2026 | C27: {=_xlfn.IFS(F27="CO","Central Office",F27="NC","North Central",F27="NE","North East",F27="NW","North West",F27="SE","South East",F27="SW","South West")} -> South West | E27: 5650-00-72 | F27: SW | G27: LOC | H27: STR | I27: C EDGERTON,GEAR DR/TOWER DR/ARTISAN | J27: PVRPLA | K27: LOCAL | L27: 2523 | M27: 0 | N27: 6345 | O27: 10734 | P27: 0 | Q27: 0 | R27: 0 | S27: 0
A28: =LEFT(B28,FIND(" ",B28)-1) -> August | B28: =IF(D28="",B27,D28) -> August 11, 2026 | C28: {=_xlfn.IFS(F28="CO","Central Office",F28="NC","North Central",F28="NE","North East",F28="NW","North West",F28="SE","South East",F28="SW","South West")} -> South West | E28: 5730-00-64 | F28: SW | G28: STH | H28: 056 | I28: VIROQUA - RICHLAND CENTER | J28: PVRPLA | K28: SHR | L28: 35109 | M28: 0 | N28: 30959 | O28: 60129 | P28: 4750 | Q28: 184722 | R28: 0 | S28: 504964
A29: =LEFT(B29,FIND(" ",B29)-1) -> August | B29: =IF(D29="",B28,D29) -> August 11, 2026 | C29: {=_xlfn.IFS(F29="CO","Central Office",F29="NC","North Central",F29="NE","North East",F29="NW","North West",F29="SE","South East",F29="SW","South West")} -> South West | E29: 5865-02-64 | F29: SW | G29: STH | H29: 162 | I29: STODDARD - COON VALLEY | J29: RSRF20 | K29: SHR | L29: 22886 | M29: 0 | N29: 15754 | O29: 26732 | P29: 850 | Q29: 101995 | R29: 0 | S29: 224664
A30: =LEFT(B30,FIND(" ",B30)-1) -> August | B30: =IF(D30="",B29,D30) -> August 11, 2026 | C30: {=_xlfn.IFS(F30="CO","Central Office",F30="NC","North Central",F30="NE","North East",F30="NW","North West",F30="SE","South East",F30="SW","South West")} -> South West | E30: 5865-02-74 | F30: SW | G30: STH | H30: 162 | I30: STODDARD - COON VALLEY | J30: RSRF20 | K30: SHR | L30: 0 | M30: 0 | N30: 0 | O30: 0 | P30: 0 | Q30: 0 | R30: 0 | S30: 0
A31: =LEFT(B31,FIND(" ",B31)-1) -> August | B31: =IF(D31="",B30,D31) -> August 11, 2026 | C31: {=_xlfn.IFS(F31="CO","Central Office",F31="NC","North Central",F31="NE","North East",F31="NW","North West",F31="SE","South East",F31="SW","South West")} -> South West | E31: 5932-00-74 | F31: SW | G31: LOC | H31: STR | I31: T PRIMROSE, LEWIS ROAD | J31: BRRPL | K31: LOCAL | L31: 50 | M31: 0 | N31: 100 | O31: 200 | P31: 720 | Q31: 0 | R31: 0 | S31: 0
... A38: =LEFT(B38,FIND(" ",B38)-1) -> August | B38: =IF(D38="",B37,D38) -> August 11, 2026 | C38: {=_xlfn.IFS(F38="CO","Central Office",F38="NC","North Central",F38="NE","North East",F38="NW","North West",F38="SE","South East",F38="SW","South West")} -> South West | E38: 7005-00-71 | F38: SW | G38: LOC | H38: STR | I38: T LAGRANGE, ELLSWORTH ROAD | J38: BRRPL | K38: LOCAL | L38: 54 | M38: 0 | N38: 124 | O38: 278 | P38: 1020 | Q38: 0 | R38: 0 | S38: 0
A39: =LEFT(B39,FIND(" ",B39)-1) -> September | B39: =IF(D39="",B38,D39) -> September 15, 2026 | C39: {=_xlfn.IFS(F39="CO","Central Office",F39="NC","North Central",F39="NE","North East",F39="NW","North West",F39="SE","South East",F39="SW","South West")} -> North Central | D39: September 15, 2026 | E39: 1009-43-76 | F39: NC | G39: NON | H39: HWY | I39: 2026/2027 STATEWIDE TREE CLEARING | J39: MISC | K39: SHR | L39: 0 | M39: 0 | N39: 0 | O39: 0 | P39: 0 | Q39: 0 | R39: 0 | S39: 0
A40: =LEFT(B40,FIND(" ",B40)-1) -> September | B40: =IF(D40="",B39,D40) -> September 15, 2026 | C40: {=_xlfn.IFS(F40="CO","Central Office",F40="NC","North Central",F40="NE","North East",F40="NW","North West",F40="SE","South East",F40="SW","South West")} -> North West | E40: 1020-00-86 | F40: NW | G40: IH | H40: 094 | I40: OSSEO - BLACK RIVER FALLS | J40: BRRHB | K40: SHR | L40: 170 | M40: 153 | N40: 2320 | O40: 1140 | P40: 1564 | Q40: 677 | R40: 0 | S40: 0
A41: =LEFT(B41,FIND(" ",B41)-1) -> September | B41: =IF(D41="",B40,D41) -> September 15, 2026 | C41: {=_xlfn.IFS(F41="CO","Central Office",F41="NC","North Central",F41="NE","North East",F41="NW","North West",F41="SE","South East",F41="SW","South West")} -> North West | E41: 1023-00-81 | F41: NW | G41: IH | H41: 094 | I41: BLACK RIVER FALLS - TOMAH | J41: BRRHB | K41: SHR | L41: 1002 | M41: 119 | N41: 2329 | O41: 1669 | P41: 5640 | Q41: 4125 | R41: 0 | S41: 13550
A42: =LEFT(B42,FIND(" ",B42)-1) -> September | B42: =IF(D42="",B41,D42) -> September 15, 2026 | C42: {=_xlfn.IFS(F42="CO","Central Office",F42="NC","North Central",F42="NE","North East",F42="NW","North West",F42="SE","South East",F42="SW","South West")} -> North West | E42: 1050-01-83 | F42: NW | G42: STH | H42: 029 | I42: CHIPPEWA FALLS - THORP | J42: BRRHB | K42: SHR | L42: 806 | M42: 0 | N42: 2546 | O42: 1398 | P42: 6608 | Q42: 0 | R42: 0 | S42: 2280
A43: =LEFT(B43,FIND(" ",B43)-1) -> September | B43: =IF(D43="",B42,D43) -> September 15, 2026 | C43: {=_xlfn.IFS(F43="CO","Central Office",F43="NC","North Central",F43="NE","North East",F43="NW","North West",F43="SE","South East",F43="SW","South West")} -> North Central | E43: 1140-00-78 | F43: NC | G43: USH | H43: 045 | I43: NEW LONDON - CLINTONVILLE | J43: RSRF20 | K43: SHR | L43: 57018 | M43: 0 | N43: 8811 | O43: 12350 | P43: 0 | Q43: 264381 | R43: 0 | S43: 324112
A44: =LEFT(B44,FIND(" ",B44)-1) -> September | B44: =IF(D44="",B43,D44) -> September 15, 2026 | C44: {=_xlfn.IFS(F44="CO","Central Office",F44="NC","North Central",F44="NE","North East",F44="NW","North West",F44="SE","South East",F44="SW","South West")} -> North Central | E44: 1166-05-66 | F44: NC | G44: IH | H44: 039 | I44: STEVENS POINT - WAUSAU | J44: PSRS30 | K44: SHR | L44: 8595 | M44: 5584 | N44: 2099 | O44: 7639 | P44: 0 | Q44: 71238 | R44: 6603 | S44: 327565
A45: =LEFT(B45,FIND(" ",B45)-1) -> September | B45: =IF(D45="",B44,D45) -> September 15, 2026 | C45: {=_xlfn.IFS(F45="CO","Central Office",F45="NC","North Central",F45="NE","North East",F45="NW","North West",F45="SE","South East",F45="SW","South West")} -> North Central | E45: 1166-05-80 | F45: NC | G45: IH | H45: 039 | I45: PLAINFIELD - STEVENS POINT | J45: RSRF20 | K45: SHR | L45: 79067 | M45: 126 | N45: 5910 | O45: 9029 | P45: 0 | Q45: 407075 | R45: 0 | S45: 733616
A46: =LEFT(B46,FIND(" ",B46)-1) -> September | B46: =IF(D46="",B45,D46) -> September 15, 2026 | C46: {=_xlfn.IFS(F46="CO","Central Office",F46="NC","North Central",F46="NE","North East",F46="NW","North West",F46="SE","South East",F46="SW","South West")} -> North Central | E46: 1170-22-70 | F46: NC | G46: USH | H46: 051 | I46: MINOCQUA - MANITOWISH | J46: BRRPL | K46: SHR | L46: 820 | M46: 305 | N46: 9100 | O46: 4830 | P46: 10070 | Q46: 0 | R46: 0 | S46: 1870
A47: =LEFT(B47,FIND(" ",B47)-1) -> September | B47: =IF(D47="",B46,D47) -> September 15, 2026 | C47: {=_xlfn.IFS(F47="CO","Central Office",F47="NC","North Central",F47="NE","North East",F47="NW","North West",F47="SE","South East",F47="SW","South West")} -> North West | E47: 1180-00-81 | F47: NW | G47: USH | H47: 002 | I47: WENTWORTH - BRULE | J47: MISC | K47: SHR | L47: 885 | M47: 0 | N47: 35381 | O47: 2625 | P47: 0 | Q47: 0 | R47: 0 | S47: 780
A48: =LEFT(B48,FIND(" ",B48)-1) -> September | B48: =IF(D48="",B47,D48) -> September 15, 2026 | C48: {=_xlfn.IFS(F48="CO","Central Office",F48="NC","North Central",F48="NE","North East",F48="NW","North West",F48="SE","South East",F48="SW","South West")} -> North West | E48: 1180-01-72 | F48: NW | G48: USH | H48: 002 | I48: SUPERIOR - WENTWORTH | J48: RSRF10 | K48: SHR | L48: 20340 | M48: 0 | N48: 0 | O48: 3370 | P48: 0 | Q48: 133840 | R48: 0 | S48: 184983
A49: =LEFT(B49,FIND(" ",B49)-1) -> September | B49: =IF(D49="",B48,D49) -> September 15, 2026 | C49: {=_xlfn.IFS(F49="CO","Central Office",F49="NC","North Central",F49="NE","North East",F49="NW","North West",F49="SE","South East",F49="SW","South West")} -> North West | E49: 1180-05-74 | F49: NW | G49: USH | H49: 002 | I49: WENTWORTH - BRULE | J49: MISC | K49: SHR | L49: 255 | M49: 0 | N49: 1450 | O49: 865 | P49: 0 | Q49: 0 | R49: 0 | S49: 270
A50: =LEFT(B50,FIND(" ",B50)-1) -> September | B50: =IF(D50="",B49,D50) -> September 15, 2026 | C50: {=_xlfn.IFS(F50="CO","Central Office",F50="NC","North Central",F50="NE","North East",F50="NW","North West",F50="SE","South East",F50="SW","South West")} -> North East | E50: 1490-16-70 | F50: NE | G50: USH | H50: 041 | I50: SUAMICO - ABRAMS | J50: TOI | K50: SHR | L50: 0 | M50: 0 | N50: 1500 | O50: 2300 | P50: 0 | Q50: 0 | R50: 0 | S50: 0
A51: =LEFT(B51,FIND(" ",B51)-1) -> September | B51: =IF(D51="",B50,D51) -> September 15, 2026 | C51: {=_xlfn.IFS(F51="CO","Central Office",F51="NC","North Central",F51="NE","North East",F51="NW","North West",F51="SE","South East",F51="SW","South West")} -> North West | E51: 1560-00-78 | F51: NW | G51: USH | H51: 063 | I51: DRUMMOND - USH 2 | J51: BRNEW | K51: SHR | L51: 880 | M51: 150 | N51: 4500 | O51: 3000 | P51: 7070 | Q51: 2100 | R51: 0 | S51: 4600
... A79: =LEFT(B79,FIND(" ",B79)-1) -> September | B79: =IF(D79="",B78,D79) -> September 15, 2026 | C79: {=_xlfn.IFS(F79="CO","Central Office",F79="NC","North Central",F79="NE","North East",F79="NW","North West",F79="SE","South East",F79="SW","South West")} -> North Central | E79: 9140-12-81 | F79: NC | G79: STH | H79: 064 | I79: ANTIGO - LANGLADE | J79: BRRPL | K79: SHR | L79: 760 | M79: 462 | N79: 1255 | O79: 2855 | P79: 9840 | Q79: 2250 | R79: 0 | S79: 14550
A80: =LEFT(B80,FIND(" ",B80)-1) -> October | B80: =IF(D80="",B79,D80) -> October 13, 2026 | C80: {=_xlfn.IFS(F80="CO","Central Office",F80="NC","North Central",F80="NE","North East",F80="NW","North West",F80="SE","South East",F80="SW","South West")} -> North Central | D80: October 13, 2026 | E80: 1009-42-85 | F80: NC | G80: VAR | H80: HWY | I80: NC REGION, EPOXY PAVEMENT MARKING | J80: TOPM | K80: MISC | L80: 0 | M80: 0 | N80: 0 | O80: 0 | P80: 0 | Q80: 0 | R80: 0 | S80: 8000000
A81: =LEFT(B81,FIND(" ",B81)-1) -> October | B81: =IF(D81="",B80,D81) -> October 13, 2026 | C81: {=_xlfn.IFS(F81="CO","Central Office",F81="NC","North Central",F81="NE","North East",F81="NW","North West",F81="SE","South East",F81="SW","South West")} -> North West | E81: 1020-05-63 | F81: NW | G81: IH | H81: 094 | I81: MENOMONIE - EAU CLAIRE | J81: PSRS20 | K81: SHR | L81: 12416 | M81: 9437 | N81: 0 | O81: 4269 | P81: 6355 | Q81: 57673 | R81: 11976 | S81: 108962
A82: =LEFT(B82,FIND(" ",B82)-1) -> October | B82: =IF(D82="",B81,D82) -> October 13, 2026 | C82: {=_xlfn.IFS(F82="CO","Central Office",F82="NC","North Central",F82="NE","North East",F82="NW","North West",F82="SE","South East",F82="SW","South West")} -> North West | E82: 1021-01-78 | F82: NW | G82: IH | H82: 094 | I82: BALDWIN - MENOMONIE | J82: BRRHB | K82: SHR | L82: 0 | M82: 0 | N82: 0 | O82: 0 | P82: 0 | Q82: 0 | R82: 0 | S82: 0
A83: =LEFT(B83,FIND(" ",B83)-1) -> October | B83: =IF(D83="",B82,D83) -> October 13, 2026 | C83: {=_xlfn.IFS(F83="CO","Central Office",F83="NC","North Central",F83="NE","North East",F83="NW","North West",F83="SE","South East",F83="SW","South West")} -> North West | E83: 1021-01-79 | F83: NW | G83: IH | H83: 094 | I83: BALDWIN - MENOMONIE | J83: BRRPL | K83: SHR | L83: 534 | M83: 0 | N83: 15001 | O83: 2225 | P83: 5725 | Q83: 360 | R83: 0 | S83: 0
A84: =LEFT(B84,FIND(" ",B84)-1) -> October | B84: =IF(D84="",B83,D84) -> October 13, 2026 | C84: {=_xlfn.IFS(F84="CO","Central Office",F84="NC","North Central",F84="NE","North East",F84="NW","North West",F84="SE","South East",F84="SW","South West")} -> North West | E84: 1050-02-73 | F84: NW | G84: STH | H84: 029 | I84: ELK MOUND - CHIPPEWA FALLS | J84: BRRHB | K84: SHR | L84: 2731 | M84: 564 | N84: 7022 | O84: 8816 | P84: 27648 | Q84: 3120 | R84: 0 | S84: 26909
A85: =LEFT(B85,FIND(" ",B85)-1) -> October | B85: =IF(D85="",B84,D85) -> October 13, 2026 | C85: {=_xlfn.IFS(F85="CO","Central Office",F85="NC","North Central",F85="NE","North East",F85="NW","North West",F85="SE","South East",F85="SW","South West")} -> South East | E85: 1060-30-71 | F85: SE | G85: IH | H85: 094 | I85: IH 94 EAST WEST | J85: MISC | K85: SHR | L85: 0 | M85: 0 | N85: 8400 | O85: 0 | P85: 0 | Q85: 0 | R85: 0 | S85: 31000
A86: =LEFT(B86,FIND(" ",B86)-1) -> October | B86: =IF(D86="",B85,D86) -> October 13, 2026 | C86: {=_xlfn.IFS(F86="CO","Central Office",F86="NC","North Central",F86="NE","North East",F86="NW","North West",F86="SE","South East",F86="SW","South West")} -> North East | E86: 1100-56-70 | F86: NE | G86: IH | H86: 041 | I86: FOND DU LAC - OSHKOSH | J86: PSRS30 | K86: SHR | L86: 7000 | M86: 7000 | N86: 600 | O86: 8000 | P86: 0 | Q86: 60000 | R86: 0 | S86: 130000
A87: =LEFT(B87,FIND(" ",B87)-1) -> October | B87: =IF(D87="",B86,D87) -> October 13, 2026 | C87: {=_xlfn.IFS(F87="CO","Central Office",F87="NC","North Central",F87="NE","North East",F87="NW","North West",F87="SE","South East",F87="SW","South West")} -> North East | E87: 1100-56-71 | F87: NE | G87: IH | H87: 041 | I87: FOND DU LAC - OSHKOSH | J87: MISC | K87: SHR | L87: 500 | M87: 0 | N87: 3300 | O87: 7000 | P87: 0 | Q87: 3000 | R87: 0 | S87: 0
A88: =LEFT(B88,FIND(" ",B88)-1) -> October | B88: =IF(D88="",B87,D88) -> October 13, 2026 | C88: {=_xlfn.IFS(F88="CO","Central Office",F88="NC","North Central",F88="NE","North East",F88="NW","North West",F88="SE","South East",F88="SW","South West")} -> North East | E88: 1130-66-71 | F88: NE | G88: IH | H88: 041 | I88: APPLETON - DE PERE | J88: RECSTE | K88: MAJORS | L88: 25520 | M88: 152807 | N88: 280668 | O88: 395018 | P88: 0 | Q88: 10080 | R88: 0 | S88: 320455
A89: =LEFT(B89,FIND(" ",B89)-1) -> October | B89: =IF(D89="",B88,D89) -> October 13, 2026 | C89: {=_xlfn.IFS(F89="CO","Central Office",F89="NC","North Central",F89="NE","North East",F89="NW","North West",F89="SE","South East",F89="SW","South West")} -> North East | E89: 1130-66-72 | F89: NE | G89: IH | H89: 041 | I89: APPLETON - DE PERE | J89: RECSTE | K89: MAJORS | L89: 31948 | M89: 245706 | N89: 319155 | O89: 785925 | P89: 46338 | Q89: 14531 | R89: 0 | S89: 533835
A90: =LEFT(B90,FIND(" ",B90)-1) -> October | B90: =IF(D90="",B89,D90) -> October 13, 2026 | C90: {=_xlfn.IFS(F90="CO","Central Office",F90="NC","North Central",F90="NE","North East",F90="NW","North West",F90="SE","South East",F90="SW","South West")} -> North East | E90: 1130-66-77 | F90: NE | G90: IH | H90: 041 | I90: APPLETON - DE PERE | J90: RECSTE | K90: MAJORS | L90: 313 | M90: 3605 | N90: 7066 | O90: 5276 | P90: 0 | Q90: 0 | R90: 0 | S90: 1440
A91: =LEFT(B91,FIND(" ",B91)-1) -> October | B91: =IF(D91="",B90,D91) -> October 13, 2026 | C91: {=_xlfn.IFS(F91="CO","Central Office",F91="NC","North Central",F91="NE","North East",F91="NW","North West",F91="SE","South East",F91="SW","South West")} -> North East | E91: 1130-66-84 | F91: NE | G91: IH | H91: 041 | I91: APPLETON - DE PERE | J91: RECSTE | K91: MAJORS | L91: 698 | M91: 0 | N91: 2557 | O91: 2274 | P91: 0 | Q91: 0 | R91: 0 | S91: 1970
A92: =LEFT(B92,FIND(" ",B92)-1) -> October | B92: =IF(D92="",B91,D92) -> October 13, 2026 | C92: {=_xlfn.IFS(F92="CO","Central Office",F92="NC","North Central",F92="NE","North East",F92="NW","North West",F92="SE","South East",F92="SW","South West")} -> North West | E92: 1196-00-60 | F92: NW | G92: USH | H92: 053 | I92: MINONG - SOLON SPRINGS | J92: RSRF30 | K92: SHR | L92: 22350 | M92: 14500 | N92: 285 | O92: 5050 | P92: 0 | Q92: 15500 | R92: 0 | S92: 80200
... A113: =LEFT(B113,FIND(" ",B113)-1) -> October | B113: =IF(D113="",B112,D113) -> October 13, 2026 | C113: {=_xlfn.IFS(F113="CO","Central Office",F113="NC","North Central",F113="NE","North East",F113="NW","North West",F113="SE","South East",F113="SW","South West")} -> North Central | E113: 9509-02-70 | F113: NC | G113: CTH | H113: N | I113: SAYNER - CTH K | J113: MISC | K113: LOCAL | L113: 0 | M113: 0 | N113: 0 | O113: 0 | P113: 0 | Q113: 0 | R113: 0 | S113: 116336
A114: =LEFT(B114,FIND(" ",B114)-1) -> November | B114: =IF(D114="",B113,D114) -> November 10, 2026 | C114: {=_xlfn.IFS(F114="CO","Central Office",F114="NC","North Central",F114="NE","North East",F114="NW","North West",F114="SE","South East",F114="SW","South West")} -> North West | D114: November 10, 2026 | E114: 1180-00-82 | F114: NW | G114: USH | H114: 002 | I114: ASHLAND - SAXON | J114: RSRF25 | K114: SHR | L114: 33775 | M114: 0 | N114: 0 | O114: 1900 | P114: 0 | Q114: 149350 | R114: 0 | S114: 132000
A115: =LEFT(B115,FIND(" ",B115)-1) -> November | B115: =IF(D115="",B114,D115) -> November 10, 2026 | C115: {=_xlfn.IFS(F115="CO","Central Office",F115="NC","North Central",F115="NE","North East",F115="NW","North West",F115="SE","South East",F115="SW","South West")} -> North East | E115: 1440-41-71 | F115: NE | G115: STH | H115: 023 | I115: FOND DU LAC - SHEBOYGAN | J115: RSRF10 | K115: SHR | L115: 38365 | M115: 859 | N115: 6436 | O115: 15410 | P115: 0 | Q115: 54000 | R115: 0 | S115: 894685
A116: =LEFT(B116,FIND(" ",B116)-1) -> November | B116: =IF(D116="",B115,D116) -> November 10, 2026 | C116: {=_xlfn.IFS(F116="CO","Central Office",F116="NC","North Central",F116="NE","North East",F116="NW","North West",F116="SE","South East",F116="SW","South West")} -> North East | E116: 1440-41-72 | F116: NE | G116: STH | H116: 023 | I116: FOND DU LAC - SHEBOYGAN | J116: MISC | K116: SHR | L116: 6060 | M116: 0 | N116: 50165 | O116: 35700 | P116: 0 | Q116: 0 | R116: 0 | S116: 14535
A117: =LEFT(B117,FIND(" ",B117)-1) -> November | B117: =IF(D117="",B116,D117) -> November 10, 2026 | C117: {=_xlfn.IFS(F117="CO","Central Office",F117="NC","North Central",F117="NE","North East",F117="NW","North West",F117="SE","South East",F117="SW","South West")} -> North West | E117: 1610-01-78 | F117: NW | G117: STH | H117: 013 | I117: PARK FALLS - MELLEN | J117: PVRPLA | K117: SHR | L117: 3890 | M117: 0 | N117: 11550 | O117: 5300 | P117: 0 | Q117: 0 | R117: 0 | S117: 5800
A118: =LEFT(B118,FIND(" ",B118)-1) -> November | B118: =IF(D118="",B117,D118) -> November 10, 2026 | C118: {=_xlfn.IFS(F118="CO","Central Office",F118="NC","North Central",F118="NE","North East",F118="NW","North West",F118="SE","South East",F118="SW","South West")} -> North West | E118: 1610-01-82 | F118: NW | G118: STH | H118: 013 | I118: PARK FALLS - MELLEN | J118: RSRF25 | K118: SHR | L118: 69687 | M118: 0 | N118: 0 | O118: 5386 | P118: 0 | Q118: 328722 | R118: 0 | S118: 318138
A119: =LEFT(B119,FIND(" ",B119)-1) -> November | B119: =IF(D119="",B118,D119) -> November 10, 2026 | C119: {=_xlfn.IFS(F119="CO","Central Office",F119="NC","North Central",F119="NE","North East",F119="NW","North West",F119="SE","South East",F119="SW","South West")} -> South West | E119: 1706-04-75 | F119: SW | G119: STH | H119: 011 | I119: MONROE - BRODHEAD | J119: RECST | K119: SHR | L119: 1650 | M119: 6300 | N119: 17800 | O119: 28000 | P119: 0 | Q119: 0 | R119: 0 | S119: 14000
A120: =LEFT(B120,FIND(" ",B120)-1) -> November | B120: =IF(D120="",B119,D120) -> November 10, 2026 | C120: {=_xlfn.IFS(F120="CO","Central Office",F120="NC","North Central",F120="NE","North East",F120="NW","North West",F120="SE","South East",F120="SW","South West")} -> South West | E120: 1706-04-76 | F120: SW | G120: STH | H120: 011 | I120: MONROE - BRODHEAD | J120: RECST | K120: SHR | L120: 2100 | M120: 6100 | N120: 18200 | O120: 31000 | P120: 0 | Q120: 0 | R120: 0 | S120: 14000
A121: =LEFT(B121,FIND(" ",B121)-1) -> November | B121: =IF(D121="",B120,D121) -> November 10, 2026 | C121: {=_xlfn.IFS(F121="CO","Central Office",F121="NC","North Central",F121="NE","North East",F121="NW","North West",F121="SE","South East",F121="SW","South West")} -> South East | E121: 2410-10-71 | F121: SE | G121: STH | H121: 059 | I121: C MILWAUKEE, W NATIONAL AVE | J121: PVRPLA | K121: SHR | L121: 16928 | M121: 3402 | N121: 97686 | O121: 105667 | P121: 0 | Q121: 0 | R121: 0 | S121: 33405
A122: =LEFT(B122,FIND(" ",B122)-1) -> November | B122: =IF(D122="",B121,D122) -> November 10, 2026 | C122: {=_xlfn.IFS(F122="CO","Central Office",F122="NC","North Central",F122="NE","North East",F122="NW","North West",F122="SE","South East",F122="SW","South West")} -> South East | E122: 2565-03-73 | F122: SE | G122: STH | H122: 057 | I122: MILWAUKEE - MEQUON | J122: RSRF25 | K122: SHR | L122: 15750 | M122: 3150 | N122: 3000 | O122: 5550 | P122: 60 | Q122: 57900 | R122: 0 | S122: 36250
A123: =LEFT(B123,FIND(" ",B123)-1) -> November | B123: =IF(D123="",B122,D123) -> November 10, 2026 | C123: {=_xlfn.IFS(F123="CO","Central Office",F123="NC","North Central",F123="NE","North East",F123="NW","North West",F123="SE","South East",F123="SW","South West")} -> South East | E123: 3170-09-70 | F123: SE | G123: STH | H123: 050 | I123: C LAKE GENEVA, W MAIN ST | J123: RSRF25 | K123: SHR | L123: 26750 | M123: 0 | N123: 3200 | O123: 4000 | P123: 0 | Q123: 52600 | R123: 0 | S123: 45000
A124: =LEFT(B124,FIND(" ",B124)-1) -> November | B124: =IF(D124="",B123,D124) -> November 10, 2026 | C124: {=_xlfn.IFS(F124="CO","Central Office",F124="NC","North Central",F124="NE","North East",F124="NW","North West",F124="SE","South East",F124="SW","South West")} -> South East | E124: 3170-09-71 | F124: SE | G124: STH | H124: 050 | I124: C LAKE GENEVA, W MAIN ST | J124: PVRPLA | K124: SHR | L124: 13500 | M124: 0 | N124: 38500 | O124: 62800 | P124: 0 | Q124: 5700 | R124: 0 | S124: 16500
A125: =LEFT(B125,FIND(" ",B125)-1) -> November | B125: =IF(D125="",B124,D125) -> November 10, 2026 | C125: {=_xlfn.IFS(F125="CO","Central Office",F125="NC","North Central",F125="NE","North East",F125="NW","North West",F125="SE","South East",F125="SW","South West")} -> South East | E125: 3170-09-81 | F125: SE | G125: STH | H125: 050 | I125: C LAKE GENEVA, W MAIN ST | J125: PVRPLA | K125: SHR | L125: 300 | M125: 0 | N125: 500 | O125: 500 | P125: 0 | Q125: 5700 | R125: 0 | S125: 0
A126: =LEFT(B126,FIND(" ",B126)-1) -> November | B126: =IF(D126="",B125,D126) -> November 10, 2026 | C126: {=_xlfn.IFS(F126="CO","Central Office",F126="NC","North Central",F126="NE","North East",F126="NW","North West",F126="SE","South East",F126="SW","South West")} -> South West | E126: 3614-00-78 | F126: SW | G126: LOC | H126: STR | I126: TOWN OF BRADFORD, O RILEY ROAD | J126: BRRPL | K126: LOCAL | L126: 383 | M126: 0 | N126: 1000 | O126: 1535 | P126: 4865 | Q126: 0 | R126: 0 | S126: 0
... A152: =LEFT(B152,FIND(" ",B152)-1) -> November | B152: =IF(D152="",B151,D152) -> November 10, 2026 | C152: {=_xlfn.IFS(F152="CO","Central Office",F152="NC","North Central",F152="NE","North East",F152="NW","North West",F152="SE","South East",F152="SW","South West")} -> North Central | E152: 9877-00-72 | F152: NC | G152: CTH | H152: P | I152: RHINELANDER - USH 8 | J152: RSRF30 | K152: LOCAL | L152: 4005 | M152: 0 | N152: 48 | O152: 780 | P152: 0 | Q152: 15470 | R152: 0 | S152: 23810
A153: =LEFT(B153,FIND(" ",B153)-1) -> December | B153: =IF(D153="",B152,D153) -> December 8, 2026 | C153: {=_xlfn.IFS(F153="CO","Central Office",F153="NC","North Central",F153="NE","North East",F153="NW","North West",F153="SE","South East",F153="SW","South West")} -> South East | D153: December 8, 2026 | E153: 1000-77-27 | F153: SE | G153: VAR | H153: HWY | I153: EPOXY PAVEMENT MARKING 2027 | J153: TOPM | K153: MISC | L153: 0 | M153: 0 | N153: 0 | O153: 0 | P153: 0 | Q153: 0 | R153: 0 | S153: 2821769
A154: =LEFT(B154,FIND(" ",B154)-1) -> December | B154: =IF(D154="",B153,D154) -> December 8, 2026 | C154: {=_xlfn.IFS(F154="CO","Central Office",F154="NC","North Central",F154="NE","North East",F154="NW","North West",F154="SE","South East",F154="SW","South West")} -> South West | E154: 1007-09-82 | F154: SW | G154: IH | H154: 039 | I154: JANESVILLE - PORTAGE | J154: TOI | K154: MISC | L154: 24 | M154: 0 | N154: 0 | O154: 0 | P154: 425 | Q154: 171 | R154: 0 | S154: 7594
A155: =LEFT(B155,FIND(" ",B155)-1) -> December | B155: =IF(D155="",B154,D155) -> December 8, 2026 | C155: {=_xlfn.IFS(F155="CO","Central Office",F155="NC","North Central",F155="NE","North East",F155="NW","North West",F155="SE","South East",F155="SW","South West")} -> South East | E155: 1060-27-76 | F155: SE | G155: IH | H155: 094 | I155: IH 94 EAST WEST, EARLY GRADING | J155: RECSTE | K155: MEGA PROJECTS | L155: 0 | M155: 0 | N155: 27000 | O155: 1600 | P155: 0 | Q155: 0 | R155: 0 | S155: 0
A156: =LEFT(B156,FIND(" ",B156)-1) -> December | B156: =IF(D156="",B155,D156) -> December 8, 2026 | C156: {=_xlfn.IFS(F156="CO","Central Office",F156="NC","North Central",F156="NE","North East",F156="NW","North West",F156="SE","South East",F156="SW","South West")} -> South West | E156: 1390-01-76 | F156: SW | G156: STH | H156: 026 | I156: WATERTOWN - WAUPUN | J156: RSRF15 | K156: SHR | L156: 5358 | M156: 358 | N156: 215 | O156: 3329 | P156: 0 | Q156: 39500 | R156: 0 | S156: 56917
A157: =LEFT(B157,FIND(" ",B157)-1) -> December | B157: =IF(D157="",B156,D157) -> December 8, 2026 | C157: {=_xlfn.IFS(F157="CO","Central Office",F157="NC","North Central",F157="NE","North East",F157="NW","North West",F157="SE","South East",F157="SW","South West")} -> North East | E157: 1500-68-71 | F157: NE | G157: USH | H157: 010 | I157: BRILLION-REEDSVILLE | J157: COLD20 | K157: SHR | L157: 17500 | M157: 0 | N157: 2000 | O157: 6670 | P157: 0 | Q157: 90385 | R157: 0 | S157: 96100
A158: =LEFT(B158,FIND(" ",B158)-1) -> December | B158: =IF(D158="",B157,D158) -> December 8, 2026 | C158: {=_xlfn.IFS(F158="CO","Central Office",F158="NC","North Central",F158="NE","North East",F158="NW","North West",F158="SE","South East",F158="SW","South West")} -> North East | E158: 1500-75-71 | F158: NE | G158: USH | H158: 010 | I158: MAIN STREET, V. OF REEDSVILLE | J158: RSRF10 | K158: SHR | L158: 5080 | M158: 0 | N158: 3120 | O158: 6060 | P158: 0 | Q158: 30780 | R158: 0 | S158: 29880
A159: =LEFT(B159,FIND(" ",B159)-1) -> December | B159: =IF(D159="",B158,D159) -> December 8, 2026 | C159: {=_xlfn.IFS(F159="CO","Central Office",F159="NC","North Central",F159="NE","North East",F159="NW","North West",F159="SE","South East",F159="SW","South West")} -> North West | E159: 1630-00-72 | F159: NW | G159: USH | H159: 053 | I159: GALESVILLE - WHITEHALL | J159: RSRF20 | K159: SHR | L159: 61664 | M159: 0 | N159: 3720 | O159: 4910 | P159: 565 | Q159: 258350 | R159: 0 | S159: 459050
A160: =LEFT(B160,FIND(" ",B160)-1) -> December | B160: =IF(D160="",B159,D160) -> December 8, 2026 | C160: {=_xlfn.IFS(F160="CO","Central Office",F160="NC","North Central",F160="NE","North East",F160="NW","North West",F160="SE","South East",F160="SW","South West")} -> South East | E160: 2109-02-70 | F160: SE | G160: LOC | H160: STR | I160: C MILWAUKEE, S LINCOLN MEMORIAL DR | J160: RECST | K160: LOCAL | L160: 8268 | M160: 0 | N160: 15614 | O160: 21012 | P160: 0 | Q160: 2480 | R160: 0 | S160: 8743
A161: =LEFT(B161,FIND(" ",B161)-1) -> December | B161: =IF(D161="",B160,D161) -> December 8, 2026 | C161: {=_xlfn.IFS(F161="CO","Central Office",F161="NC","North Central",F161="NE","North East",F161="NW","North West",F161="SE","South East",F161="SW","South West")} -> South East | E161: 2450-06-71 | F161: SE | G161: CTH | H161: F | I161: V LISBON, REDFORD BLVD | J161: MISC | K161: LOCAL | L161: 1868 | M161: 3736 | N161: 5595 | O161: 6976 | P161: 0 | Q161: 0 | R161: 0 | S161: 23671
A162: =LEFT(B162,FIND(" ",B162)-1) -> December | B162: =IF(D162="",B161,D162) -> December 8, 2026 | C162: {=_xlfn.IFS(F162="CO","Central Office",F162="NC","North Central",F162="NE","North East",F162="NW","North West",F162="SE","South East",F162="SW","South West")} -> South East | E162: 2695-05-72 | F162: SE | G162: CTH | H162: C | I162: C MEQUON/T GRAFTON, PIONEER RD | J162: MISC | K162: LOCAL | L162: 193 | M162: 960 | N162: 952 | O162: 1150 | P162: 0 | Q162: 0 | R162: 0 | S162: 6890
A163: =LEFT(B163,FIND(" ",B163)-1) -> December | B163: =IF(D163="",B162,D163) -> December 8, 2026 | C163: {=_xlfn.IFS(F163="CO","Central Office",F163="NC","North Central",F163="NE","North East",F163="NW","North West",F163="SE","South East",F163="SW","South West")} -> South East | E163: 2703-07-72 | F163: SE | G163: LOC | H163: STR | I163: C RACINE, LATHROP AVE | J163: RECST | K163: LOCAL | L163: 29 | M163: 16000 | N163: 15800 | O163: 17400 | P163: 0 | Q163: 0 | R163: 0 | S163: 23500
A164: =LEFT(B164,FIND(" ",B164)-1) -> December | B164: =IF(D164="",B163,D164) -> December 8, 2026 | C164: {=_xlfn.IFS(F164="CO","Central Office",F164="NC","North Central",F164="NE","North East",F164="NW","North West",F164="SE","South East",F164="SW","South West")} -> South East | E164: 2703-09-72 | F164: SE | G164: LOC | H164: STR | I164: C RACINE, MT PLEASANT ST | J164: RECST | K164: LOCAL | L164: 73 | M164: 9320 | N164: 11364 | O164: 13198 | P164: 0 | Q164: 0 | R164: 0 | S164: 31158
A165: =LEFT(B165,FIND(" ",B165)-1) -> December | B165: =IF(D165="",B164,D165) -> December 8, 2026 | C165: {=_xlfn.IFS(F165="CO","Central Office",F165="NC","North Central",F165="NE","North East",F165="NW","North West",F165="SE","South East",F165="SW","South West")} -> South West | E165: 3020-00-89 | F165: SW | G165: STH | H165: 028 | I165: HORICON - KEWASKUM | J165: BRRHB | K165: SHR | L165: 0 | M165: 794 | N165: 23 | O165: 157 | P165: 9828 | Q165: 0 | R165: 0 | S165: 1420
... A207: =LEFT(B207,FIND(" ",B207)-1) -> December | B207: =IF(D207="",B206,D207) -> December 8, 2026 | C207: {=_xlfn.IFS(F207="CO","Central Office",F207="NC","North Central",F207="NE","North East",F207="NW","North West",F207="SE","South East",F207="SW","South West")} -> North Central | E207: 9660-01-74 | F207: NC | G207: CTH | H207: M | I207: SHAWANO - LANGLADE | J207: RECST | K207: LOCAL | L207: 2294 | M207: 0 | N207: 4960 | O207: 6520 | P207: 0 | Q207: 0 | R207: 0 | S207: 17445
A208: =LEFT(B208,FIND(" ",B208)-1) -> January | B208: =IF(D208="",B207,D208) -> January 12, 2027 | C208: {=_xlfn.IFS(F208="CO","Central Office",F208="NC","North Central",F208="NE","North East",F208="NW","North West",F208="SE","South East",F208="SW","South West")} -> North West | D208: January 12, 2027 | E208: 1000-18-65 | F208: NW | G208: VAR | H208: HWY | I208: NW REGION, PAVEMENT MARKING 2027 | J208: TOPM | K208: MISC | L208: 0 | M208: 0 | N208: 0 | O208: 0 | P208: 0 | Q208: 0 | R208: 0 | S208: 4144771
A209: =LEFT(B209,FIND(" ",B209)-1) -> January | B209: =IF(D209="",B208,D209) -> January 12, 2027 | C209: {=_xlfn.IFS(F209="CO","Central Office",F209="NC","North Central",F209="NE","North East",F209="NW","North West",F209="SE","South East",F209="SW","South West")} -> South West | E209: 1009-13-93 | F209: SW | G209: VAR | H209: HWY | I209: SW REGION PAVEMENT MARKING 2027 | J209: TOPM | K209: MISC | L209: 0 | M209: 0 | N209: 0 | O209: 0 | P209: 0 | Q209: 0 | R209: 0 | S209: 4186672
A210: =LEFT(B210,FIND(" ",B210)-1) -> January | B210: =IF(D210="",B209,D210) -> January 12, 2027 | C210: {=_xlfn.IFS(F210="CO","Central Office",F210="NC","North Central",F210="NE","North East",F210="NW","North West",F210="SE","South East",F210="SW","South West")} -> South West | E210: 1204-00-76 | F210: SW | G210: USH | H210: 018 | I210: DODGEVILLE - MOUNT HOREB | J210: MISC | K210: SHR | L210: 3208 | M210: 0 | N210: 55356 | O210: 23319 | P210: 0 | Q210: 0 | R210: 0 | S210: 24140
A211: =LEFT(B211,FIND(" ",B211)-1) -> January | B211: =IF(D211="",B210,D211) -> January 12, 2027 | C211: {=_xlfn.IFS(F211="CO","Central Office",F211="NC","North Central",F211="NE","North East",F211="NW","North West",F211="SE","South East",F211="SW","South West")} -> South East | E211: 1310-19-70 | F211: SE | G211: STH | H211: 083 | I211: ANTIOCH - BURLINGTON | J211: RSRF25 | K211: SHR | L211: 19846 | M211: 104 | N211: 20 | O211: 768 | P211: 0 | Q211: 84185 | R211: 0 | S211: 67551
A212: =LEFT(B212,FIND(" ",B212)-1) -> January | B212: =IF(D212="",B211,D212) -> January 12, 2027 | C212: {=_xlfn.IFS(F212="CO","Central Office",F212="NC","North Central",F212="NE","North East",F212="NW","North West",F212="SE","South East",F212="SW","South West")} -> North Central | E212: 1430-08-83 | F212: NC | G212: STH | H212: 023 | I212: C PRINCETON, MAIN & FULTON STREETS | J212: RSRF25 | K212: SHR | L212: 7010 | M212: 0 | N212: 291 | O212: 1585 | P212: 0 | Q212: 31120 | R212: 0 | S212: 44275
A213: =LEFT(B213,FIND(" ",B213)-1) -> January | B213: =IF(D213="",B212,D213) -> January 12, 2027 | C213: {=_xlfn.IFS(F213="CO","Central Office",F213="NC","North Central",F213="NE","North East",F213="NW","North West",F213="SE","South East",F213="SW","South West")} -> North East | E213: 1500-76-71 | F213: NE | G213: USH | H213: 010 | I213: APPLETON - FOREST JUNCTION | J213: RECST | K213: SHR | L213: 4930 | M213: 620 | N213: 4550 | O213: 16160 | P213: 0 | Q213: 0 | R213: 0 | S213: 9533
A214: =LEFT(B214,FIND(" ",B214)-1) -> January | B214: =IF(D214="",B213,D214) -> January 12, 2027 | C214: {=_xlfn.IFS(F214="CO","Central Office",F214="NC","North Central",F214="NE","North East",F214="NW","North West",F214="SE","South East",F214="SW","South West")} -> North West | E214: 1560-00-73 | F214: NW | G214: USH | H214: 063 | I214: SPOONER - HAYWARD | J214: BRRPL | K214: SHR | L214: 250 | M214: 160 | N214: 750 | O214: 650 | P214: 6020 | Q214: 0 | R214: 0 | S214: 2500
A215: =LEFT(B215,FIND(" ",B215)-1) -> January | B215: =IF(D215="",B214,D215) -> January 12, 2027 | C215: {=_xlfn.IFS(F215="CO","Central Office",F215="NC","North Central",F215="NE","North East",F215="NW","North West",F215="SE","South East",F215="SW","South West")} -> South West | E215: 1640-03-74 | F215: SW | G215: USH | H215: 014 | I215: LA CROSSE - WESTBY | J215: PVRPLA | K215: SHR | L215: 16765 | M215: 0 | N215: 26283 | O215: 44100 | P215: 0 | Q215: 22331 | R215: 0 | S215: 54128
A216: =LEFT(B216,FIND(" ",B216)-1) -> January | B216: =IF(D216="",B215,D216) -> January 12, 2027 | C216: {=_xlfn.IFS(F216="CO","Central Office",F216="NC","North Central",F216="NE","North East",F216="NW","North West",F216="SE","South East",F216="SW","South West")} -> South West | E216: 1640-03-75 | F216: SW | G216: USH | H216: 014 | I216: RICHLAND CENTER - SPRING GREEN | J216: RSRF30 | K216: SHR | L216: 74150 | M216: 140 | N216: 8950 | O216: 38300 | P216: 0 | Q216: 156400 | R216: 0 | S216: 315835
A217: =LEFT(B217,FIND(" ",B217)-1) -> January | B217: =IF(D217="",B216,D217) -> January 12, 2027 | C217: {=_xlfn.IFS(F217="CO","Central Office",F217="NC","North Central",F217="NE","North East",F217="NW","North West",F217="SE","South East",F217="SW","South West")} -> South West | E217: 1640-03-84 | F217: SW | G217: USH | H217: 014 | I217: LA CROSSE - WESTBY | J217: PVRPLA | K217: SHR | L217: 0 | M217: 0 | N217: 0 | O217: 0 | P217: 0 | Q217: 0 | R217: 0 | S217: 0
A218: =LEFT(B218,FIND(" ",B218)-1) -> January | B218: =IF(D218="",B217,D218) -> January 12, 2027 | C218: {=_xlfn.IFS(F218="CO","Central Office",F218="NC","North Central",F218="NE","North East",F218="NW","North West",F218="SE","South East",F218="SW","South West")} -> South East | E218: 2040-21-70 | F218: SE | G218: USH | H218: 045 | I218: C FRANKLIN, LOVERS LANE ROAD | J218: RSRF20 | K218: SHR | L218: 11540 | M218: 0 | N218: 0 | O218: 940 | P218: 0 | Q218: 64140 | R218: 0 | S218: 55230
A219: =LEFT(B219,FIND(" ",B219)-1) -> January | B219: =IF(D219="",B218,D219) -> January 12, 2027 | C219: {=_xlfn.IFS(F219="CO","Central Office",F219="NC","North Central",F219="NE","North East",F219="NW","North West",F219="SE","South East",F219="SW","South West")} -> South West | E219: 3110-00-75 | F219: SW | G219: STH | H219: 059 | I219: WHITEWATER - NORTH PRAIRIE | J219: PVRPLA | K219: SHR | L219: 16887 | M219: 162 | N219: 3140 | O219: 8810 | P219: 80 | Q219: 52836 | R219: 0 | S219: 96020
A220: =LEFT(B220,FIND(" ",B220)-1) -> January | B220: =IF(D220="",B219,D220) -> January 12, 2027 | C220: {=_xlfn.IFS(F220="CO","Central Office",F220="NC","North Central",F220="NE","North East",F220="NW","North West",F220="SE","South East",F220="SW","South West")} -> South West | E220: 3110-00-77 | F220: SW | G220: STH | H220: 059 | I220: WHITEWATER - NORTH PRAIRIE | J220: PVRPLA | K220: SHR | L220: 0 | M220: 0 | N220: 0 | O220: 21 | P220: 0 | Q220: 0 | R220: 0 | S220: 0
... A248: =LEFT(B248,FIND(" ",B248)-1) -> January | B248: =IF(D248="",B247,D248) -> January 12, 2027 | C248: {=_xlfn.IFS(F248="CO","Central Office",F248="NC","North Central",F248="NE","North East",F248="NW","North West",F248="SE","South East",F248="SW","South West")} -> North Central | E248: 9845-06-70 | F248: NC | G248: LOC | H248: STR | I248: T ROLLING, KOSZAREK ROAD | J248: BRRPL | K248: LOCAL | L248: 130 | M248: 104 | N248: 247 | O248: 470 | P248: 1394 | Q248: 0 | R248: 0 | S248: 0
...
